BEGIN:VCALENDAR
VERSION:2.0
PRODID:-//ChamberMaster//Event Calendar 2.0//EN
METHOD:PUBLISH
X-PUBLISHED-TTL:P3D
REFRESH-INTERVAL:P3D
CALSCALE:GREGORIAN
BEGIN:VEVENT
DTSTART:20101204T140000Z
DTEND:20101204T180000Z
X-MICROSOFT-CDO-ALLDAYEVENT:FALSE
SUMMARY:INDIANA MEMBERS CREDIT UNION NOBLESVILLE BRANCH TO HOST HOLIDAY OPEN HOUSE DECEMBER 4\, 2010
DESCRIPTION:(Indianapolis\, IN\, November 2010)  Indiana Members Credit Union (IMCU) is happy to announce they will host a holiday open house for the public on Saturday\, December 4\, 2010 at their Noblesville Branch located at 9710 Butterfly Drive.   \n\nThe IMCU staff invites you to join them from 9 am to 1 pm on Saturday for holiday music by JT Express\, complimentary refreshments and prizes.  \n\nDuring the event\, IMCU will have special product offerings and a knowledgeable staff available to answer questions.  IMCU invites you to experience the credit union difference!  \n\nFor more information about the event\, please contact Branch Manager\, Cathy Moritz\, at 317-773-3966.    \n\nIndiana Members Credit Union\, headquartered in Indianapolis\, Indiana\, was founded in \n1956 as the Indiana University Medical Center Federal Credit Union on the campus of\nIUPUI\, and has since grown to 24 branches in Central Indiana\, offering members a better \nfinancial alternative and a full array of products and services.  Traditionally offering \nbetter rates on loans and deposits\, IMCU maintains true to its roots by ''Keeping It Simple'' for members.  For more information\, please visit IMCU online at www.imcu.org.   \n                   \n                     ###
X-ALT-DESC;FMTTYPE=text/html:(Indianapolis\, IN\, November 2010)  Indiana Members Credit Union (IMCU) is happy to announce they will host a holiday open house for the public on Saturday\, December 4\, 2010 at their Noblesville Branch located at 9710 Butterfly Drive.   \n\nThe IMCU staff invites you to join them from 9 am to 1 pm on Saturday for holiday music by JT Express\, complimentary refreshments and prizes.  \n\nDuring the event\, IMCU will have special product offerings and a knowledgeable staff available to answer questions.  IMCU invites you to experience the credit union difference!  \n\nFor more information about the event\, please contact Branch Manager\, Cathy Moritz\, at 317-773-3966.    \n\nIndiana Members Credit Union\, headquartered in Indianapolis\, Indiana\, was founded in \n1956 as the Indiana University Medical Center Federal Credit Union on the campus of\nIUPUI\, and has since grown to 24 branches in Central Indiana\, offering members a better \nfinancial alternative and a full array of products and services.  Traditionally offering \nbetter rates on loans and deposits\, IMCU maintains true to its roots by ''Keeping It Simple'' for members.  For more information\, please visit IMCU online at www.imcu.org.   \n                   \n                     ###\n
LOCATION:Indiana Members Credit Union's Noblesville Branch is located at 9710 Butterfly Drive.
UID:e.1538.97
SEQUENCE:3
DTSTAMP:20260422T031456Z
URL:https://business.noblesvillechamber.com/events/details/indiana-members-credit-union-noblesville-branch-to-host-holiday-open-house-december-4-2010-12-04-2010-97
END:VEVENT

END:VCALENDAR
