BEGIN:VCALENDAR
VERSION:2.0
PRODID:-//ChamberMaster//Event Calendar 2.0//EN
METHOD:PUBLISH
X-PUBLISHED-TTL:P3D
REFRESH-INTERVAL:P3D
CALSCALE:GREGORIAN
BEGIN:VEVENT
DTSTART:20121207T140000Z
DTEND:20121207T230000Z
X-MICROSOFT-CDO-ALLDAYEVENT:FALSE
SUMMARY:INDIANA MEMBERS CREDIT UNION NOBLESVILLE BRANCH TO HOST HOLIDAY OPEN HOUSE DECEMBER 7\, 2012
DESCRIPTION:Indiana Members Credit Union (IMCU) is happy to announce they will host a holiday open house for the public on Friday\, December 7\, 2012 at their Noblesville Branch located at 9710 Butterfly Drive.   \n\n	 \n\n	The IMCU staff invites you to join them from 9 am to 6 pm on Friday for refreshments\, treats for children and holiday fun! \n\n	\n\n	During the event\, IMCU will have special product offerings and a knowledgeable staff available to answer questions.  IMCU invites you to experience the credit union difference!  \n\n	 \n\n	For more information about the event\, please contact Scott Tabor\, IMCU Noblesville Branch Manager\, at 317-773-3966 or stabor@imcu.com.    \n\n	 \n\n	About Indiana Members Credit Union\n\n	Indiana Members Credit Union\, headquartered in Indianapolis\, Indiana\,\n\n	was founded in 1956 as the Indiana University Medical Center Federal\n\n	Credit Union on the campus of IUPUI\, and has since grown to 23 branches in Central Indiana\, offering members a better financial alternative and a full array of products and services.  Traditionally offering better rates on loans and deposits\, IMCU maintains true to its roots by "Keeping It Simple" for members.
X-ALT-DESC;FMTTYPE=text/html:<p class="MsoNormal" style="margin: 0in 0in 0pt">\n	<font color="#000000"><font size="3">Indiana Members Credit Union (IMCU) is happy to announce they<b style="mso-bidi-font-weight: normal"> </b>will host a holiday open house for the public on Friday\, December 7\, 2012 at their Noblesville Branch located at 9710 Butterfly Drive.<span style="mso-spacerun: yes">&nbsp\; </span><span style="mso-spacerun: yes">&nbsp\;</span></font></font></p>\n<p class="MsoNormal" style="margin: 0in 0in 0pt">\n	<font color="#000000" size="3">&nbsp\;</font></p>\n<p class="MsoNormal" style="margin: 0in 0in 0pt">\n	<font color="#000000"><font size="3">The IMCU staff invites you to join them from 9 am to 6 pm on Friday for refreshments\, treats for children and holiday fun! </font></font></p>\n<p class="MsoNormal" style="margin: 0in 0in 0pt">\n	<br />\n	<font color="#000000"><font size="3">During the event\, IMCU will have special product offerings and a knowledgeable staff available to answer questions.<span style="mso-spacerun: yes">&nbsp\; </span>IMCU invites you to experience the credit union difference!<span style="mso-spacerun: yes">&nbsp\; </span></font></font></p>\n<p class="MsoNormal" style="margin: 0in 0in 0pt">\n	<font color="#000000" size="3">&nbsp\;</font></p>\n<p class="MsoNormal" style="margin: 0in 0in 0pt">\n	<font color="#000000" size="3">For more information about the event\, please contact Scott Tabor\, IMCU Noblesville Branch Manager\, at 317-773-3966 or </font><a href="mailto:stabor@imcu.com"><font color="#0000ff" size="3">stabor@imcu.com</font></a><font size="3"><font color="#000000">.<span style="mso-spacerun: yes">&nbsp\;&nbsp\;&nbsp\; </span></font></font></p>\n<p class="MsoNormal" style="margin: 0in 0in 0pt">\n	<font color="#000000" size="3">&nbsp\;</font></p>\n<p class="MsoNormal" style="margin: 0in 0in 0pt">\n	<b style="mso-bidi-font-weight: normal"><font size="3"><font color="#000000">About Indiana Members Credit Union</font></font></b></p>\n<p class="MsoNormal" style="margin: 0in 0in 0pt">\n	<font size="3"><font color="#000000">Indiana Members Credit Union\, headquartered in Indianapolis\, Indiana\,<br />\n	was founded in </font></font><font size="3"><font color="#000000">1956 as the Indiana University Medical Center Federal<br />\n	Credit Union on the campus of </font></font><font size="3"><font color="#000000">IUPUI\, and has since grown to 23 branches in Central Indiana\, offering members a better </font></font><font size="3"><font color="#000000">financial alternative and a full array of products and services.<span style="mso-spacerun: yes">&nbsp\; </span>Traditionally offering better rates on loans and deposits\, IMCU maintains true to its roots by &ldquo\;Keeping It Simple&rdquo\; for members.<span style="mso-spacerun: yes">&nbsp\; </span></font></font></p>\n
LOCATION:Indiana Members Credit Union Noblesville Branch located at 9710 Butterfly Drive
UID:e.1538.368
SEQUENCE:3
DTSTAMP:20260420T132501Z
URL:https://business.noblesvillechamber.com/events/details/indiana-members-credit-union-noblesville-branch-to-host-holiday-open-house-december-7-2012-368
END:VEVENT

END:VCALENDAR
