BEGIN:VCALENDAR
VERSION:2.0
PRODID:-//ChamberMaster//Event Calendar 2.0//EN
METHOD:PUBLISH
X-PUBLISHED-TTL:P3D
REFRESH-INTERVAL:P3D
CALSCALE:GREGORIAN
BEGIN:VEVENT
DTSTART:20130425T213000Z
DTEND:20130426T020000Z
X-MICROSOFT-CDO-ALLDAYEVENT:FALSE
SUMMARY:INDIANA MEMBERS CREDIT UNION PRESENTS MIKE AULBY'S ROLLING FOR RONALD EVENT THURSDAY\, APRIL 25\, 2013
DESCRIPTION:Indiana Members Credit Union (IMCU)\, Central Indiana's largest credit union\, is presenting Mike Aulby's Rolling for Ronald fundraiser at Latitude 39\, 4016 East 82 St.\, Indianapolis\, on Thursday\, April 25th.  The event will feature Hall of Fame bowler\, Mike Aulby and will raise funds for the Ronald McDonald House of Indiana.  Proceeds from the event will assist in providing a home-away-from home for families while their child is being treated for a serious illness or injury at Riley Hospital for Children at IU Health and other area hospitals.\n\n	 \n\n	The Rolling for Ronald event will include:  \n\n	\n		Host and legendary Hoosier and Hall of Famer Mike Aulby\, a former tour great who will be available to provide tips and fundraising challenges to our bowlers.\n	\n		Two sessions of Rolling for Ronald bowling. Session #1 is from 5:30 to 7:30 p.m. Session #2 is from 8 to 10 p.m. You choose your preferred time.\n	\n		Gifts and prizes that will be given away to bowlers throughout the night as an appreciation of support from those in attendance!\n	\n		Each team is encouraged to wear your most creative and fun bowling shirts. The team with the most unique and creative uniform will win a special prize!\n	\n		Complimentary food and beverages are available throughout your session.\n	\n		A generous partner for the event has pledged $10 for each strike that is bowled by our contestants. And another partner has pledged $5 for each spare bowled.\n	\n		A team entry for four is $300. Individuals can enter for $75.\n\n\n	 \n\n	"We are excited to present the Rolling for Ronald event to benefit the Ronald McDonald \n\n	House of Indiana\," stated Ron Collier\, CEO of IMCU.  "We have formed a great partnership with the Ronald McDonald House through Riley Hospital and this fundraiser is another way for us to give back to the families in our community\, which is something IMCU is passionate about.  We look forward to a fun event!"    \n\n	 \n\n	For more information about the Rolling for Ronald event\, please call Ray Compton at 826-1175.       \n\n	 \n\n	About Indiana Members Credit Union\n\n	Indiana Members Credit Union\, headquartered in Indianapolis\, Indiana\, was founded in\n\n	1956 as the Indiana University Medical Center Federal Credit Union on the campus of\n\n	IUPUI\, and has since grown to 24 branches in Central Indiana\, offering members a better \n\n	financial alternative and a full array of products and services.  Traditionally offering better rates on loans and deposits\, IMCU maintains true to its roots by "Keeping It Simple" for members.  For more information\, please visit IMCU online at www.imcu.org.
X-ALT-DESC;FMTTYPE=text/html:<p class="MsoNormal" style="margin: 0in 0in 0pt">\n	<font color="#000000"><font size="3">Indiana Members Credit Union (IMCU)\, Central Indiana&rsquo\;s largest credit union\, is presenting Mike Aulby&rsquo\;s Rolling for Ronald fundraiser at Latitude 39\, 4016 East 82 St.\, Indianapolis\, on Thursday\, April </font><font size="3">25</font><sup><font size="2">th</font></sup><font size="3">.<span style="mso-spacerun: yes">&nbsp\; </span>The event will feature Hall of Fame bowler\, Mike Aulby and will raise funds for the Ronald McDonald House of Indiana.<span style="mso-spacerun: yes">&nbsp\; </span>Proceeds from the event will assist in providing a home-away-from home for families while their child is being treated for a serious illness or injury at Riley Hospital for Children at IU Health and other area hospitals.<o:p></o:p></font></font></p>\n<p class="MsoNormal" style="margin: 0in 0in 0pt">\n	<o:p><font color="#000000" size="3">&nbsp\;</font></o:p></p>\n<p class="MsoNormal" style="margin: 0in 0in 0pt">\n	<font color="#000000"><font size="3">The Rolling for Ronald event will include:<span style="mso-spacerun: yes">&nbsp\; </span><o:p></o:p></font></font></p>\n<ul style="margin-top: 0in" type="disc">\n	<li class="MsoNormal" style="margin: 0in 0in 0pt\; mso-list: l0 level1 lfo1">\n		<font color="#000000"><font size="3">Host and legendary Hoosier and Hall of Famer Mike Aulby\, a former tour great who will be available to provide tips and fundraising challenges to our bowlers.<o:p></o:p></font></font></li>\n	<li class="MsoNormal" style="margin: 0in 0in 0pt\; mso-list: l0 level1 lfo1">\n		<font color="#000000"><font size="3">Two sessions of Rolling for Ronald bowling. Session #1 is from 5:30 to 7:30 p.m. Session #2 is from 8 to 10 p.m. You choose your preferred time.</font></font></li>\n	<li class="MsoNormal" style="margin: 0in 0in 0pt\; mso-list: l0 level1 lfo1">\n		<font color="#000000"><font size="3">Gifts and prizes that will be given away to bowlers throughout the night as an appreciation of support from those in attendance!<o:p></o:p></font></font></li>\n	<li class="MsoNormal" style="margin: 0in 0in 0pt\; mso-list: l0 level1 lfo1">\n		<font color="#000000"><font size="3">Each team is encouraged to wear your most creative and fun bowling shirts. The team with the most unique and creative uniform will win a special prize!<o:p></o:p></font></font></li>\n	<li class="MsoNormal" style="margin: 0in 0in 0pt\; mso-list: l0 level1 lfo1">\n		<font color="#000000"><font size="3">Complimentary food and beverages are available throughout your session.<o:p></o:p></font></font></li>\n	<li class="MsoNormal" style="margin: 0in 0in 0pt\; mso-list: l0 level1 lfo1">\n		<font color="#000000"><font size="3">A generous partner for the event has pledged $10 for each strike that is bowled by our contestants. And another partner has pledged $5 for each spare bowled.<o:p></o:p></font></font></li>\n	<li class="MsoNormal" style="margin: 0in 0in 0pt\; mso-list: l0 level1 lfo1">\n		<font color="#000000"><font size="3">A team entry for four is $300. Individuals can enter for $75.<o:p></o:p></font></font></li>\n</ul>\n<p class="MsoNormal" style="margin: 0in 0in 0pt">\n	<o:p><font color="#000000" size="3">&nbsp\;</font></o:p></p>\n<p class="MsoNormal" style="margin: 0in 0in 0pt">\n	<font color="#000000"><font size="3">&ldquo\;We are excited to present the Rolling for Ronald event to benefit the Ronald McDonald <o:p></o:p></font></font></p>\n<p class="MsoNormal" style="margin: 0in 0in 0pt">\n	<font color="#000000"><font size="3">House of Indiana\,&rdquo\; stated Ron Collier\, CEO of IMCU.<span style="mso-spacerun: yes">&nbsp\; </span>&ldquo\;We have formed a great partnership with the Ronald McDonald House through Riley Hospital and this fundraiser is another way for us to give back to the families in our community\, which is something IMCU is passionate about.<span style="mso-spacerun: yes">&nbsp\; </span>We look forward to a fun event!&rdquo\;<span style="mso-spacerun: yes">&nbsp\;&nbsp\; </span><span style="mso-spacerun: yes">&nbsp\;</span><o:p></o:p></font></font></p>\n<p class="MsoNormal" style="margin: 0in 0in 0pt">\n	<o:p><font color="#000000" size="3">&nbsp\;</font></o:p></p>\n<p class="MsoNormal" style="margin: 0in 0in 0pt">\n	<font color="#000000"><font size="3">For more information about the Rolling for Ronald event\, please call Ray Compton at 826-1175.<span style="mso-spacerun: yes">&nbsp\; </span><span style="mso-spacerun: yes">&nbsp\;&nbsp\;&nbsp\;&nbsp\;&nbsp\;</span><o:p></o:p></font></font></p>\n<p class="MsoNormal" style="margin: 0in 0in 0pt">\n	<o:p><font color="#000000" size="3">&nbsp\;</font></o:p></p>\n<p class="MsoNormal" style="margin: 0in 0in 0pt">\n	<b style="mso-bidi-font-weight: normal"><font color="#000000"><font size="3">About <st1:state w:st="on"><st1:place w:st="on">Indiana</st1:place></st1:state> Members Credit Union<o:p></o:p></font></font></b></p>\n<p class="MsoNormal" style="margin: 0in 0in 0pt">\n	<font color="#000000"><font size="3">Indiana Members Credit Union\, headquartered in <st1:place w:st="on"><st1:city w:st="on">Indianapolis</st1:city>\, <st1:state w:st="on">Indiana</st1:state></st1:place>\, was founded in<o:p></o:p></font></font></p>\n<p class="MsoNormal" style="margin: 0in 0in 0pt">\n	<font color="#000000"><font size="3">1956 as the Indiana University Medical Center Federal Credit Union on the campus of<o:p></o:p></font></font></p>\n<p class="MsoNormal" style="margin: 0in 0in 0pt">\n	<font color="#000000"><font size="3">IUPUI\, and has since grown to 24 branches in Central Indiana\, offering members a better <o:p></o:p></font></font></p>\n<p class="MsoNormal" style="margin: 0in 0in 0pt">\n	<font color="#000000" size="3">financial alternative and a full array of products and services.<span style="mso-spacerun: yes">&nbsp\; </span>Traditionally offering better rates on loans and deposits\, IMCU maintains true to its roots by &ldquo\;Keeping It Simple&rdquo\; for members.<span style="mso-spacerun: yes">&nbsp\; </span>For more information\, please visit IMCU online at </font><a href="http://www.imcu.org/"><font size="3">www.imcu.org</font></a><font size="3"><font color="#000000">.<o:p></o:p></font></font></p>\n<p class="MsoNormal" style="margin: 0in 0in 0pt">\n	<b style="mso-bidi-font-weight: normal"><o:p><font color="#000000" size="3">&nbsp\;</font></o:p></b></p>\n
LOCATION:The IMCU/Mike Aulby Rolling for Ronald event will take place at Latitude 39\, 4016 East 82 Street.
UID:e.1538.428
SEQUENCE:3
DTSTAMP:20260420T071157Z
URL:https://business.noblesvillechamber.com/events/details/indiana-members-credit-union-presents-mike-aulby-s-rolling-for-ronald-event-thursday-april-25-2013-428
END:VEVENT

END:VCALENDAR
