BEGIN:VCALENDAR
VERSION:2.0
PRODID:-//ChamberMaster//Event Calendar 2.0//EN
METHOD:PUBLISH
X-PUBLISHED-TTL:P3D
REFRESH-INTERVAL:P3D
CALSCALE:GREGORIAN
BEGIN:VEVENT
DTSTART;VALUE=DATE:20130626
DTEND;VALUE=DATE:20130627
TRANSP:TRANSPARENT
X-MICROSOFT-CDO-ALLDAYEVENT:TRUE
SUMMARY:INDIANA MEMBERS FOUNDATION HOSTS 5th ANNUAL GOLF OUTING
DESCRIPTION:Indiana Members Credit Union (IMCU) will serve as the title sponsor for the 5th Annual Indiana Members Foundation Golf Outing at Maple Creek Golf Course and Country Club\, 10501 E. 21st Street\, Indianapolis\, on Wednesday\, June 26\, 2013.  The Golf Outing will benefit the Indiana Members Foundation\, whose mission is to support children in the Indianapolis and surrounding communities\, in large part\, through the Indy BackPack Attack Program (Indy BPA).  The Indy BPA is an agency devoted to providing children with the tools essential to succeed in school such as\; backpacks\, pens\, pencils and other necessary school supplies.   \n\n	 \n\n	The Golf Outing event will begin at 8 am with registration and breakfast.  A 9 am Shotgun Start will follow with a recognition dinner at Maple Creek Golf Course.  The $125 registration fee includes green fees\, cart\, breakfast\, dinner\, silent auction tickets and "erasers".  Player packages and sponsorship opportunities are still available.\n\n	 \n\n	For more information on the Golf Outing or to register for the event\, please visit www.imcu.org/foundation or contact Mandy Emery\, AVP Community Relations\, at aemery@imcu.com or 317-554-8121.            \n\n	 \n\n	About Indiana Members Foundation\n\n	Indiana Members Foundation was founded in 2010\, exclusively for the purpose of being a positive influence in the community served by Indiana Members Credit Union\; specifically\, providing school children in the Indianapolis area with the necessities essential for learning and succeeding in their education.  For more information\, please visit www.imcu.org/foundation.  \n\n	  \n\n	About Indiana Members Credit Union\n\n	Indiana Members Credit Union\, headquartered in Indianapolis\, Indiana\, was founded in 1956 as the Indiana University Medical Center Federal Credit Union on the campus of \n\n	IUPUI\, and has since grown to 24 branches in Central Indiana\, offering members a better \n\n	financial alternative and a full array of products and services.  Traditionally offering better rates on loans and deposits\, IMCU maintains true to its roots by "Keeping It Simple" for members.  For more information\, please visit IMCU online at www.imcu.org.
X-ALT-DESC;FMTTYPE=text/html:<p class="MsoNormal" style="margin: 0in 0in 0pt">\n	<font color="#000000"><font face="Times New Roman"><font size="3">Indiana Members Credit Union (IMCU) will serve as the title sponsor for the </font><font size="3">5</font><sup><font size="2">th</font></sup><font size="3"> Annual Indiana Members Foundation Golf Outing at Maple Creek Golf Course and Country Club\, 10501 E. </font><font size="3">21</font><sup><font size="2">st</font></sup><font size="3"> Street\, Indianapolis\, on Wednesday\, June 26\, 2013.<span style="mso-spacerun: yes">&nbsp\; </span>The Golf Outing will benefit the Indiana Members Foundation\, whose mission is to support children in the Indianapolis and surrounding communities\, in large part\, through the Indy BackPack Attack Program (Indy BPA).<span style="mso-spacerun: yes">&nbsp\; </span>The Indy BPA is an agency devoted to providing children with the tools essential to succeed in school such as\; backpacks\, pens\, pencils and other necessary school supplies.<span style="mso-spacerun: yes">&nbsp\; </span><span style="mso-spacerun: yes">&nbsp\;</span><o:p></o:p></font></font></font></p>\n<p class="MsoNormal" style="margin: 0in 0in 0pt">\n	<o:p><font color="#000000" face="Times New Roman" size="3">&nbsp\;</font></o:p></p>\n<p class="MsoNormal" style="margin: 0in 0in 0pt">\n	<font color="#000000"><font size="3"><font face="Times New Roman">The Golf Outing event will begin at 8 am with registration and breakfast.<span style="mso-spacerun: yes">&nbsp\; </span>A 9 am Shotgun Start will follow with a recognition dinner at Maple Creek Golf Course.<span style="mso-spacerun: yes">&nbsp\; </span>The $125 registration fee includes green fees\, cart\, breakfast\, dinner\, silent auction tickets and &ldquo\;erasers&rdquo\;.<span style="mso-spacerun: yes">&nbsp\; </span>Player packages and sponsorship opportunities are still available.<o:p></o:p></font></font></font></p>\n<p class="MsoNormal" style="margin: 0in 0in 0pt">\n	<o:p><font color="#000000" face="Times New Roman" size="3">&nbsp\;</font></o:p></p>\n<p class="MsoNormal" style="margin: 0in 0in 0pt">\n	<font color="#000000" face="Times New Roman" size="3">For more information on the Golf Outing or to register for the event\, please visit </font><a href="http://www.imcu.org/foundation"><font face="Times New Roman" size="3">www.imcu.org/foundation</font></a><font color="#000000" face="Times New Roman" size="3"> or contact Mandy Emery\, AVP Community Relations\, at </font><a href="mailto:aemery@imcu.com"><font color="#0000ff" face="Times New Roman" size="3">aemery@imcu.com</font></a><font color="#000000"><font size="3"><font face="Times New Roman"> or 317-554-8121.<span style="mso-spacerun: yes">&nbsp\; </span><span style="mso-spacerun: yes">&nbsp\;</span><span style="mso-spacerun: yes">&nbsp\;</span><span style="mso-spacerun: yes">&nbsp\;&nbsp\;&nbsp\;&nbsp\;&nbsp\;&nbsp\;&nbsp\;&nbsp\;</span><o:p></o:p></font></font></font></p>\n<p class="MsoNormal" style="margin: 0in 0in 0pt">\n	<o:p><font color="#000000" face="Times New Roman" size="3">&nbsp\;</font></o:p></p>\n<p class="MsoNormal" style="margin: 0in 0in 0pt">\n	<b style="mso-bidi-font-weight: normal"><font color="#000000"><font size="3"><font face="Times New Roman">About <st1:state w:st="on"><st1:place w:st="on">Indiana</st1:place></st1:state> Members Foundation<o:p></o:p></font></font></font></b></p>\n<p class="MsoNormal" style="margin: 0in 0in 0pt">\n	<font color="#000000" face="Times New Roman" size="3">Indiana Members Foundation was founded in 2010\, exclusively for the purpose of being a positive influence in the community served by Indiana Members Credit Union\; specifically\, providing school children in the <st1:place w:st="on"><st1:city w:st="on">Indianapolis</st1:city></st1:place> area with the necessities essential for learning and succeeding in their education.<span style="mso-spacerun: yes">&nbsp\; </span>For more information\, please visit </font><a href="http://www.imcu.org/foundation"><font face="Times New Roman" size="3">www.imcu.org/foundation</font></a><font color="#000000"><font size="3"><font face="Times New Roman">.<span style="mso-spacerun: yes">&nbsp\; </span><o:p></o:p></font></font></font></p>\n<p class="MsoNormal" style="margin: 0in 0in 0pt">\n	<b style="mso-bidi-font-weight: normal"><o:p><font color="#000000" face="Times New Roman" size="3">&nbsp\;</font></o:p></b><b style="mso-bidi-font-weight: normal"><o:p><font color="#000000" face="Times New Roman" size="3">&nbsp\;</font></o:p></b></p>\n<p class="MsoNormal" style="margin: 0in 0in 0pt">\n	<b style="mso-bidi-font-weight: normal"><font color="#000000"><font size="3"><font face="Times New Roman">About <st1:state w:st="on"><st1:place w:st="on">Indiana</st1:place></st1:state> Members Credit Union<o:p></o:p></font></font></font></b></p>\n<p class="MsoNormal" style="margin: 0in 0in 0pt">\n	<font color="#000000"><font size="3"><font face="Times New Roman">Indiana Members Credit Union\, headquartered in <st1:place w:st="on"><st1:city w:st="on">Indianapolis</st1:city>\, <st1:state w:st="on">Indiana</st1:state></st1:place>\, was founded in 1956 as the Indiana University Medical Center Federal Credit Union on the campus of <o:p></o:p></font></font></font></p>\n<p class="MsoNormal" style="margin: 0in 0in 0pt">\n	<font color="#000000"><font size="3"><font face="Times New Roman">IUPUI\, and has since grown to 24 branches in Central Indiana\, offering members a better <o:p></o:p></font></font></font></p>\n<p class="MsoNormal" style="margin: 0in 0in 0pt">\n	<font color="#000000" face="Times New Roman" size="3">financial alternative and a full array of products and services.<span style="mso-spacerun: yes">&nbsp\; </span>Traditionally offering better rates on loans and deposits\, IMCU maintains true to its roots by &ldquo\;Keeping It Simple&rdquo\; for members.<span style="mso-spacerun: yes">&nbsp\; </span>For more information\, please visit IMCU online at </font><a href="http://www.imcu.org/"><font face="Times New Roman" size="3">www.imcu.org</font></a><font size="3"><font color="#000000"><font face="Times New Roman">. <span style="mso-spacerun: yes">&nbsp\;</span><span style="mso-spacerun: yes">&nbsp\;</span><o:p></o:p></font></font></font></p>\n<p class="MsoNormal" style="margin: 0in 0in 0pt">\n	<o:p><font color="#000000" face="Times New Roman" size="3">&nbsp\;</font></o:p></p>\n
LOCATION:Maple Creek Golf Course and Country Club\, 10501 E. 21st Street\, Indianapolis
UID:e.1538.440
SEQUENCE:3
DTSTAMP:20260420T034004Z
URL:https://business.noblesvillechamber.com/events/details/indiana-members-foundation-hosts-5th-annual-golf-outing-440
END:VEVENT

END:VCALENDAR
