BEGIN:VCALENDAR
VERSION:2.0
PRODID:-//ChamberMaster//Event Calendar 2.0//EN
METHOD:PUBLISH
X-PUBLISHED-TTL:P3D
REFRESH-INTERVAL:P3D
CALSCALE:GREGORIAN
BEGIN:VEVENT
DTSTART:20130518T120000Z
DTEND:20130518T180000Z
X-MICROSOFT-CDO-ALLDAYEVENT:FALSE
SUMMARY:INDIANA MEMBERS FOUNDATION HOSTS ANNUAL GARAGE SALE AND COMMUNITY SHRED\, E-WASTE DAY SATURDAY\, MAY 18\, 2013
DESCRIPTION:Indiana Members Foundation will host its annual garage sale and community shred and e-waste day for the public on Saturday\, May 18\, 2013 at Indiana Members Credit Union's Headquarters in Indianapolis.  The garage sale will be located at IMCU's Car Lot\, 5027 Madison Avenue\, Indianapolis\, 46227.  Items available at the garage sale from 8 am   2 pm include:  Entertainment center\, refrigerator\, chairs\, tables\, TV's\, books\, baby items and more!  The community shred and e-waste event will take place at IMCU's Executive Offices\, 5103 Madison Avenue\, Building Two\, Indianapolis\, 46227.  A Ray's Shred and E-Waste Truck will be onsite accepting items for proper disposal between the hours of 10 am   2 pm.  Members of the public are invited to bring as many shred and e-waste items as they wish\, however\, CRT monitors and televisions will not be accepted.  There will be a $5 fee per box of shred and a $5 fee per e-waste item.  \n\n	 \n\n	Proceeds from the event will benefit the Indiana Members Foundation which supports children in need in the communities IMCU serves.  For more information please visit:  www.imcu.org/foundation.   \n\n	 \n\n	About Indiana Members Foundation\n\n	Indiana Members Foundation was founded in 2010\, exclusively for the purpose of being a positive influence in the community served by Indiana Members Credit Union\; specifically\, providing school children in the Indianapolis area with the necessities essential for learning and succeeding in their education.  For more information\, please visit www.imcu.org/foundation.        \n\n	\n\n	About Indiana Members Credit Union       \n\n	Indiana Members Credit Union\, headquartered in Indianapolis\, Indiana\, was founded in \n\n	1956 as the Indiana University Medical Center Federal Credit Union on the campus of IUPUI\, and has since grown to 24 branches in Central Indiana\, offering members a better financial alternative and a full array of products and services.  Traditionally offering better rates on loans and deposits\, IMCU maintains true to its roots by "Keeping It Simple" for members.  For more information\, please visit IMCU online at www.imcu.org.
X-ALT-DESC;FMTTYPE=text/html:<p class="MsoNormal" style="margin: 0in 0in 0pt">\n	<font color="#000000"><font size="3">Indiana Members Foundation will host its annual garage sale and community shred and e-waste day for the public on Saturday\, May 18\, 2013 at Indiana Members Credit Union&rsquo\;s Headquarters in Indianapolis.<span style="mso-spacerun: yes">&nbsp\; </span>The garage sale will be located at IMCU&rsquo\;s Car Lot\, 5027 Madison Avenue\, Indianapolis\, 46227.<span style="mso-spacerun: yes">&nbsp\; </span>Items available at the garage sale from 8 am &ndash\; 2 pm include:<span style="mso-spacerun: yes">&nbsp\; </span>Entertainment center\, refrigerator\, chairs\, tables\, TV&rsquo\;s\, books\, baby items and more!<span style="mso-spacerun: yes">&nbsp\; </span>The community shred and e-waste event will take place at IMCU&rsquo\;s Executive Offices\, 5103 Madison Avenue\, Building Two\, Indianapolis\, 46227.<span style="mso-spacerun: yes">&nbsp\; </span>A Ray&rsquo\;s Shred and E-Waste Truck will be onsite accepting items for proper disposal between the hours of 10 am &ndash\; 2 pm.<span style="mso-spacerun: yes">&nbsp\; </span>Members of the public are invited to bring as many shred and e-waste items as they wish\, however\, CRT monitors and televisions will not be accepted.<span style="mso-spacerun: yes">&nbsp\; </span>There will be a $5 fee per box of shred and a $5 fee per e-waste item.<span style="mso-spacerun: yes">&nbsp\; </span><o:p></o:p></font></font></p>\n<p class="MsoNormal" style="margin: 0in 0in 0pt">\n	<o:p><font color="#000000" size="3">&nbsp\;</font></o:p></p>\n<p class="MsoNormal" style="margin: 0in 0in 0pt">\n	<font color="#000000"><font size="3">Proceeds from the event will benefit the Indiana Members Foundation which supports children in need in the communities IMCU serves.<span style="mso-spacerun: yes">&nbsp\; </span>For more information please visit:<span style="mso-spacerun: yes">&nbsp\; </span></font></font><a href="http://www.imcu.org/foundation"><font size="3">www.imcu.org/foundation</font></a><font color="#000000"><font size="3">. <span style="mso-spacerun: yes">&nbsp\;&nbsp\;</span><o:p></o:p></font></font></p>\n<p class="MsoNormal" style="margin: 0in 0in 0pt">\n	<b style="mso-bidi-font-weight: normal"><o:p><font color="#000000" size="3">&nbsp\;</font></o:p></b></p>\n<p class="MsoNormal" style="margin: 0in 0in 0pt">\n	<b style="mso-bidi-font-weight: normal"><font color="#000000"><font size="3">About Indiana Members Foundation<o:p></o:p></font></font></b></p>\n<p class="MsoNormal" style="margin: 0in 0in 0pt">\n	<font color="#000000" size="3">Indiana Members Foundation was founded in 2010\, exclusively for the purpose of being a positive influence in the community served by Indiana Members Credit Union\; specifically\, providing school children in the Indianapolis area with the necessities essential for learning and succeeding in their education.<span style="mso-spacerun: yes">&nbsp\; </span>For more information\, please visit </font><a href="http://www.imcu.org/foundation"><font size="3">www.imcu.org/foundation</font></a><font color="#000000"><font size="3">. <span style="mso-spacerun: yes">&nbsp\;&nbsp\;&nbsp\;&nbsp\;&nbsp\;&nbsp\;&nbsp\;</span><o:p></o:p></font></font></p>\n<p class="MsoNormal" style="margin: 0in 0in 0pt">\n	<b style="mso-bidi-font-weight: normal"><o:p></o:p></b></p>\n<p class="MsoNormal" style="margin: 0in 0in 0pt">\n	<b style="mso-bidi-font-weight: normal"><font color="#000000"><font size="3">About Indiana Members Credit Union<span style="mso-spacerun: yes">&nbsp\;&nbsp\;&nbsp\;&nbsp\;&nbsp\;&nbsp\; </span><o:p></o:p></font></font></b></p>\n<p class="MsoNormal" style="margin: 0in 0in 0pt">\n	<font color="#000000"><font size="3">Indiana Members Credit Union\, headquartered in Indianapolis\, Indiana\, was founded in <o:p></o:p></font></font></p>\n<p class="MsoNormal" style="margin: 0in 0in 0pt">\n	<font color="#000000"><font size="3">1956 as the Indiana University Medical Center Federal Credit Union on the campus of IUPUI\, and has since grown to 24 branches in Central Indiana\, offering members a better </font></font><font color="#000000" size="3">financial alternative and a full array of products and services.<span style="mso-spacerun: yes">&nbsp\; </span>Traditionally offering better rates on loans and deposits\, IMCU maintains true to its roots by &ldquo\;Keeping It Simple&rdquo\; for members.<span style="mso-spacerun: yes">&nbsp\; </span>For more information\, please visit IMCU online at </font><a href="http://www.imcu.org/"><font size="3">www.imcu.org</font></a><font size="3"><font color="#000000">. <span style="mso-spacerun: yes">&nbsp\;&nbsp\;&nbsp\;&nbsp\;</span></font></font><o:p></o:p></p>\n
LOCATION:The Indiana Members Foundation Garage Sale & Community Shred\, E-Waste Day will take place at IMCU's Headquarters\, 5027 & 5103 Madison Avenue\, Indianapolis\, IN\, 46227.
UID:e.1538.442
SEQUENCE:3
DTSTAMP:20260420T053102Z
URL:https://business.noblesvillechamber.com/events/details/indiana-members-foundation-hosts-annual-garage-sale-and-community-shred-e-waste-day-saturday-may-18-2013-442
END:VEVENT

END:VCALENDAR
