BEGIN:VCALENDAR
VERSION:2.0
PRODID:-//ChamberMaster//Event Calendar 2.0//EN
METHOD:PUBLISH
X-PUBLISHED-TTL:P3D
REFRESH-INTERVAL:P3D
CALSCALE:GREGORIAN
BEGIN:VEVENT
DTSTART:20130406T140000Z
DTEND:20130406T150000Z
X-MICROSOFT-CDO-ALLDAYEVENT:FALSE
SUMMARY:INDIANA PACERS ALUMNI PLAYERS SET FOR APPEARANCE AT INDIANA MEMBERS CREDIT UNION
DESCRIPTION:Through a continued partnership with the Indiana Pacers\, Indiana Members Credit Union (IMCU) is happy to announce a special appearance by Indiana Pacers Alumni Players\, Don Buse\, Billy Keller and George McGinnis\, along with Pacers Mascot\, Boomer\, hosted for the public on Saturday\, April 6\, 2013 at their Castleton Branch located at 7470 East 82nd Street\, Indianapolis.     \n\n	 \n\n	The IMCU staff invites you to join them for this exciting event from 10:00 am to 11:00 am on Saturday for prizes\, fun\, and the opportunity to meet these legendary Pacers Players!  \n\n	\n\n	IMCU will have special product offerings and a knowledgeable staff available to answer questions during the event.  IMCU invites you to experience the credit union difference!  \n\n	 \n\n	For more information about the event\, please contact Branch Manager\, Joyce English\, at 317-849-5630.   \n\n	 \n\n	Indiana Members Credit Union\, headquartered in Indianapolis\, Indiana\, was founded in \n\n	1956 as the Indiana University Medical Center Federal Credit Union on the campus of\n\n	IUPUI\, and has since grown to 24 branches in Central Indiana\, offering members a better \n\n	financial alternative and a full array of products and services.  Traditionally offering \n\n	better rates on loans and deposits\, IMCU maintains true to its roots by "Keeping It Simple" for members.  For more information\, please visit IMCU online at www.imcu.org.
X-ALT-DESC;FMTTYPE=text/html:<p class="MsoNormal" style="margin: 0in 0in 0pt">\n	<font color="#000000"><font size="3">Through a continued partnership with the Indiana Pacers\, Indiana Members Credit Union (IMCU) is happy to announce a special appearance by Indiana Pacers Alumni Players\, Don Buse\, Billy Keller and George McGinnis\, along with Pacers Mascot\, Boomer\, hosted for the public on Saturday\, April 6\, 2013 at their Castleton Branch located at 7470 East </font><font size="3">82</font><sup><font size="2">nd</font></sup><font size="3"> Street\, Indianapolis.<span style="mso-spacerun: yes">&nbsp\; </span><span style="mso-spacerun: yes">&nbsp\;&nbsp\;</span><span style="mso-spacerun: yes">&nbsp\;</span></font></font></p>\n<p class="MsoNormal" style="margin: 0in 0in 0pt">\n	<font color="#000000" size="3">&nbsp\;</font></p>\n<p class="MsoNormal" style="margin: 0in 0in 0pt">\n	<font color="#000000"><font size="3">The IMCU staff invites you to join them for this exciting event from 10:00 am to 11:00 am on Saturday for prizes\, fun\, and the opportunity to meet these legendary Pacers Players!<span style="mso-spacerun: yes">&nbsp\; </span></font></font></p>\n<p class="MsoNormal" style="margin: 0in 0in 0pt">\n	<br />\n	<font color="#000000"><font size="3">IMCU will have special product offerings and a knowledgeable staff available to answer questions during the event.<span style="mso-spacerun: yes">&nbsp\; </span>IMCU invites you to experience the credit union difference!<span style="mso-spacerun: yes">&nbsp\; </span></font></font></p>\n<p class="MsoNormal" style="margin: 0in 0in 0pt">\n	<font color="#000000" size="3">&nbsp\;</font></p>\n<p class="MsoNormal" style="margin: 0in 0in 0pt">\n	<font color="#000000"><font size="3">For more information about the event\, please contact Branch Manager\, Joyce English\, at 317-849-5630. <span style="mso-spacerun: yes">&nbsp\;</span><b style="mso-bidi-font-weight: normal"><span style="mso-spacerun: yes">&nbsp\;</span></b></font></font></p>\n<p class="MsoNormal" style="margin: 0in 0in 0pt">\n	<font color="#000000" size="3">&nbsp\;</font></p>\n<p class="MsoNormal" style="margin: 0in 0in 0pt">\n	<font color="#000000"><font size="3">Indiana Members Credit Union\, headquartered in <st1:place w:st="on"><st1:city w:st="on">Indianapolis</st1:city>\, <st1:state w:st="on">Indiana</st1:state></st1:place>\, was founded in </font></font></p>\n<p class="MsoNormal" style="margin: 0in 0in 0pt">\n	<font color="#000000"><font size="3">1956 as the Indiana University Medical Center Federal Credit Union on the campus of</font></font></p>\n<p class="MsoNormal" style="margin: 0in 0in 0pt">\n	<font color="#000000"><font size="3">IUPUI\, and has since grown to 24 branches in Central Indiana\, offering members a better </font></font></p>\n<p class="MsoNormal" style="margin: 0in 0in 0pt">\n	<font color="#000000"><font size="3">financial alternative and a full array of products and services.<span style="mso-spacerun: yes">&nbsp\; </span>Traditionally offering </font></font></p>\n<p class="MsoNormal" style="margin: 0in 0in 0pt">\n	<font color="#000000" size="3">better rates on loans and deposits\, IMCU maintains true to its roots by &ldquo\;Keeping It Simple&rdquo\; for members.<span style="mso-spacerun: yes">&nbsp\; </span>For more information\, please visit IMCU online at </font><a href="http://www.imcu.org/"><font size="3">www.imcu.org</font></a><font size="3"><font color="#000000">. <span style="mso-spacerun: yes">&nbsp\;</span><span style="mso-spacerun: yes">&nbsp\;</span></font></font></p>\n
LOCATION:Indiana Members Credit Union's Castleton Branch- 7470 East 82nd Street\, Indianapolis\, IN 46256
UID:e.1538.414
SEQUENCE:3
DTSTAMP:20260420T071308Z
URL:https://business.noblesvillechamber.com/events/details/indiana-pacers-alumni-players-set-for-appearance-at-indiana-members-credit-union-414
END:VEVENT

END:VCALENDAR
