BEGIN:VCALENDAR
VERSION:2.0
PRODID:-//ChamberMaster//Event Calendar 2.0//EN
METHOD:PUBLISH
X-PUBLISHED-TTL:P3D
REFRESH-INTERVAL:P3D
CALSCALE:GREGORIAN
BEGIN:VEVENT
DTSTART:20140111T143000Z
DTEND:20140111T153000Z
X-MICROSOFT-CDO-ALLDAYEVENT:FALSE
SUMMARY:INDIANA PACERS GEORGE HILL SET FOR APPEARANCE AT IMCU
DESCRIPTION:Through a continued partnership with the Indiana Pacers\, Indiana Members Credit Union (IMCU) is happy to announce a special appearance by Indiana Pacers Guard\, George Hill\, hosted for the public on Saturday\, January 11\, 2014 at their Castleton Branch located at 7470 East 82nd Street\, Indianapolis. The IMCU staff invites you to join them from 9:30 am to 10:30 am* on Saturday for prizes\, fun\, and the opportunity to meet George Hill! IMCU will have special product offerings and a knowledgeable staff available to answer questions during the event. IMCU invites you to experience the credit union difference! For more information about the event\, please contact Branch Manager\, Joyce English\, at 317-849-5630. Indiana Members Credit Union\, headquartered in Indianapolis\, Indiana\, was founded in 1956 as the Indiana University Medical Center Federal Credit Union on the campus of IUPUI\, and has since grown to 25 branches in Central Indiana\, offering members a better financial alternative and a full array of products and services. Traditionally offering better rates on loans and deposits\, IMCU maintains true to its roots by ?Keeping It Simple? for members. For more information\, please visit IMCU online at www.imcu.org. *Time subject to change.
X-ALT-DESC;FMTTYPE=text/html:Through a continued partnership with the Indiana Pacers\, Indiana Members Credit Union (IMCU) is happy to announce a special appearance by Indiana Pacers Guard\, George Hill\, hosted for the public on Saturday\, January 11\, 2014 at their Castleton Branch located at 7470 East 82nd Street\, Indianapolis. The IMCU staff invites you to join them from 9:30 am to 10:30 am* on Saturday for prizes\, fun\, and the opportunity to meet George Hill! IMCU will have special product offerings and a knowledgeable staff available to answer questions during the event. IMCU invites you to experience the credit union difference! For more information about the event\, please contact Branch Manager\, Joyce English\, at 317-849-5630. Indiana Members Credit Union\, headquartered in Indianapolis\, Indiana\, was founded in 1956 as the Indiana University Medical Center Federal Credit Union on the campus of IUPUI\, and has since grown to 25 branches in Central Indiana\, offering members a better financial alternative and a full array of products and services. Traditionally offering better rates on loans and deposits\, IMCU maintains true to its roots by ?Keeping It Simple? for members. For more information\, please visit IMCU online at www.imcu.org. *Time subject to change. 
LOCATION:The George Hill appearance will take place at IMCU's Castleton Branch\, 7470 East 82nd Street\, Indianapolis.
UID:e.1538.554
SEQUENCE:3
DTSTAMP:20260419T171618Z
URL:https://business.noblesvillechamber.com/events/details/indiana-pacers-george-hill-set-for-appearance-at-imcu-554
END:VEVENT

END:VCALENDAR
