BEGIN:VCALENDAR
VERSION:2.0
PRODID:-//ChamberMaster//Event Calendar 2.0//EN
METHOD:PUBLISH
X-PUBLISHED-TTL:P3D
REFRESH-INTERVAL:P3D
CALSCALE:GREGORIAN
BEGIN:VEVENT
DTSTART:20130624T113000Z
DTEND:20130624T180000Z
X-MICROSOFT-CDO-ALLDAYEVENT:FALSE
SUMMARY:INDY BACKPACK ATTACK ANNOUNCES KICKOFF EVENT MONDAY\, JUNE 24\, 2013 AT THE CHILDREN'S MUSEUM
DESCRIPTION:Indy BackPack Attack School Supply Drive\, is a collaboration of local businesses\, organizations and non-profits\, whose mission is to collect school supplies to provide children the tools they need to succeed in school\, will receive an official proclamation from Mayor Ballard's office declaring June 24\, 2013 Indy BackPack Attack Day.  June 24\, 2013 is also the Indy BackPack Attack's annual kickoff event at the Children's Museum\, 3000 N. Meridian St.\, Indianapolis\, IN 46208.  During this event\, participating businesses and organizations can pick up their collection supplies from 7:30 am to 2:00 pm for the 2013 School Supply Drive running through July 19\, 2013.  Captains will also receive their free Indy BackPack Attack t-shirt. \n\n\n\nTo register your business or organization as an official 2013 Indy BackPack Attack collection site\, to see a complete list of school supplies needed\, to make a tax deductible donation\, or for more information\, please visit:  www.indybackpackattack.org or call 317-554-8229\, Indy BackPack Attack Coordinator\, Ashley Perry. \n\n\n\nAbout Indy BackPack Attack:\n\nSince 1999\, Indy BackPack Attack has formed a strategic community collaboration with Central Indiana organizations and businesses and has made it our mission to collect school supplies to provide children the tools they need to succeed in school.  Indy BackPack Attack has partnered with United Way of Central Indiana on drives in Boone\, Hancock\, Hendricks and Morgan counties.  For more information\, please visit Indy BackPack Attack online at www.indybackpackattack.org.
X-ALT-DESC;FMTTYPE=text/html:Indy BackPack Attack School Supply Drive\, is a collaboration of local businesses\, organizations and non-profits\, whose mission is to collect school supplies to provide children the tools they need to succeed in school\, will receive an official proclamation from Mayor Ballard&#39\;s office declaring June 24\, 2013 Indy BackPack Attack Day.&nbsp\; June 24\, 2013 is also the Indy BackPack Attack&#39\;s annual kickoff event at the Children&#39\;s Museum\, 3000 N. Meridian St.\, Indianapolis\, IN 46208.&nbsp\; During this event\, participating businesses and organizations can pick up their collection supplies from 7:30 am to 2:00 pm for the 2013 School Supply Drive running through July 19\, 2013.&nbsp\; Captains will also receive their free Indy BackPack Attack t-shirt.&nbsp\;<br />\n<br />\nTo register your business or organization as an official 2013 Indy BackPack Attack collection site\, to see a complete list of school supplies needed\, to make a tax deductible donation\, or for more information\, please visit:&nbsp\; <a href="http://www.indybackpackattack.org">www.indybackpackattack.org</a> or call 317-554-8229\, Indy BackPack Attack Coordinator\, Ashley Perry.&nbsp\;<br />\n<br />\nAbout Indy BackPack Attack:<br />\nSince 1999\, Indy&nbsp\;BackPack Attack has formed a strategic community collaboration with Central Indiana&nbsp\;organizations and businesses and has made it our mission to collect school supplies to provide children the tools they need to succeed in school.&nbsp\; Indy&nbsp\;BackPack Attack has partnered with United Way of Central Indiana on drives in Boone\, Hancock\, Hendricks and Morgan counties.&nbsp\; For&nbsp\;more information\, please visit Indy&nbsp\;BackPack Attack online at <a href="http://www.indybackpackattack.org">www.indybackpackattack.org</a>.&nbsp\;<br />\n
LOCATION:The Children's Museum\, 3000 N. Meridian Street
UID:e.1538.478
SEQUENCE:3
DTSTAMP:20260420T034337Z
URL:https://business.noblesvillechamber.com/events/details/indy-backpack-attack-announces-kickoff-event-monday-june-24-2013-at-the-children-s-museum-478
END:VEVENT

END:VCALENDAR
