BEGIN:VCALENDAR
VERSION:2.0
PRODID:-//ChamberMaster//Event Calendar 2.0//EN
METHOD:PUBLISH
X-PUBLISHED-TTL:P3D
REFRESH-INTERVAL:P3D
CALSCALE:GREGORIAN
BEGIN:VEVENT
DTSTART:20120924T210000Z
DTEND:20120925T000000Z
X-MICROSOFT-CDO-ALLDAYEVENT:FALSE
SUMMARY:Indy Chamber's HobNob 2012
DESCRIPTION:Mix and mingle with the candidates\, business community and neighborhood leaders at the region's largest political gathering - the Indy Chamber's HobNob!\n\n\n\nTalk one-on-one with candidates in your district in a fun\, non-partisan setting to learn more about their platforms so you can go into election season informed.
X-ALT-DESC;FMTTYPE=text/html:Mix and mingle with the candidates\, business community and neighborhood leaders at the region&#39\;s largest political gathering - the Indy Chamber&#39\;s HobNob!<br />\n<br />\nTalk one-on-one with candidates in your district in a fun\, non-partisan setting to learn more about their platforms so you can go into election season informed.
LOCATION:10 S West Street Indianapolis\, IN
UID:e.1538.344
SEQUENCE:3
DTSTAMP:20260420T174116Z
URL:https://business.noblesvillechamber.com/events/details/indy-chamber-s-hobnob-2012-344
END:VEVENT

END:VCALENDAR
