BEGIN:VCALENDAR
VERSION:2.0
PRODID:-//ChamberMaster//Event Calendar 2.0//EN
METHOD:PUBLISH
X-PUBLISHED-TTL:P3D
REFRESH-INTERVAL:P3D
CALSCALE:GREGORIAN
BEGIN:VEVENT
DTSTART:20130928T223000Z
DTEND:20130929T023000Z
X-MICROSOFT-CDO-ALLDAYEVENT:FALSE
SUMMARY:Interactive Intelligence Foundation Gala Fundraiser
DESCRIPTION:The Interactive Intelligence Foundation is hosting its third annual dinner-auction gala to raise funds for charities that foster life improvements for at-risk youth. The vintage carnival-themed gala\, to be held Saturday\, Sept. 28 at 6:30 p.m. at the JW Marriott Indianapolis\, will feature a cocktail reception\, dinner\, carnival games\, guest speakers\, and silent and live auctions. \n\n	Guest speakers for the event include Interactive Intelligence Founder and CEO Dr. Donald E. Brown\, and past recipients of assistance from Gleaners Food Bank of Indiana and Happy Hollow Children's Camp.\n\n	All proceeds from the event will go to Foundation-supported charities\, which include Gleaners Food Bank of Indiana\, The Julian Center\, Camptown\, Happy Hollow Children's Camp\, Desert Edge Mentoring Services\, FIRST\, Penny Lane\, and TRAC South Africa.\n\n	Cost: Early bird pricing of $75 per ticket is now available through Aug. 31. Tickets can be purchased online\, or by calling (317) 715-8414. Dress is black-tie optional.
X-ALT-DESC;FMTTYPE=text/html:<p class="MsoNormal">\n	The Interactive Intelligence Foundation is hosting its third annual dinner-auction gala to raise funds for charities that foster life improvements for at-risk youth. The vintage carnival-themed gala\, to be held Saturday\, Sept. 28 at 6:30 p.m. at the JW Marriott Indianapolis\, will feature a cocktail reception\, dinner\, carnival games\, guest speakers\, and silent and live auctions.&nbsp\;</p>\n<p class="MsoNormal">\n	Guest speakers for the event include Interactive Intelligence Founder and CEO Dr. Donald E. Brown\, and past recipients of assistance from Gleaners Food Bank of Indiana and Happy Hollow Children&#39\;s Camp.</p>\n<p class="MsoNormal">\n	All proceeds from the event will go to Foundation-supported charities\, which include Gleaners Food Bank of Indiana\, The Julian Center\, Camptown\, Happy Hollow Children&rsquo\;s Camp\, Desert Edge Mentoring Services\, FIRST\, Penny Lane\, and TRAC South Africa.</p>\n<p class="MsoNormal">\n	Cost: Early bird pricing of $75 per ticket is now available through Aug. 31. Tickets can be purchased online\, or by calling (317) 715-8414. Dress is black-tie optional.<o:p></o:p></p>\n
LOCATION:JW Marriott Indianapolis
UID:e.1538.515
SEQUENCE:3
DTSTAMP:20260419T230747Z
URL:https://business.noblesvillechamber.com/events/details/interactive-intelligence-foundation-gala-fundraiser-515
END:VEVENT

END:VCALENDAR
