BEGIN:VCALENDAR
VERSION:2.0
PRODID:-//ChamberMaster//Event Calendar 2.0//EN
METHOD:PUBLISH
X-PUBLISHED-TTL:P3D
REFRESH-INTERVAL:P3D
CALSCALE:GREGORIAN
BEGIN:VEVENT
DTSTART:20130522T120000Z
DTEND:20130522T203000Z
X-MICROSOFT-CDO-ALLDAYEVENT:FALSE
SUMMARY:Ivy Tech Corporate College Brings Disney Institute to Indianapolis
DESCRIPTION:Ivy Tech Corporate College is bringing Disney Institute's "Disney's Approach to Leadership Excellence" to Indianapolis.  Gain insight into time-tested Disney strategies and tactics for improving business results through exceptional leadership.  Throughout this full-day experience\, you will learn the details of the Disney Leadership Excellence Model and how to adapt it to improve results within your own organization.  Register by April 22nd to receive our $359 Early Bird Rate.
X-ALT-DESC;FMTTYPE=text/html:Ivy Tech Corporate College is bringing Disney Institute&#39\;s &quot\;Disney&#39\;s Approach to Leadership Excellence&quot\; to Indianapolis.&nbsp\; Gain insight into time-tested Disney strategies and tactics for improving business results through exceptional leadership.&nbsp\; Throughout this full-day experience\, you will learn the details of the Disney Leadership Excellence Model and how to adapt it to improve results within your own organization.&nbsp\; Register by April 22nd to receive our $359 Early Bird Rate.<br />\n
LOCATION:Ivy Tech Corporate College & Culinary Center 2820 N. Meridian Street Indianapolis\, 46208
UID:e.1538.413
SEQUENCE:3
DTSTAMP:20260420T052920Z
URL:https://business.noblesvillechamber.com/events/details/ivy-tech-corporate-college-brings-disney-institute-to-indianapolis-413
END:VEVENT

END:VCALENDAR
