BEGIN:VCALENDAR
VERSION:2.0
PRODID:-//ChamberMaster//Event Calendar 2.0//EN
METHOD:PUBLISH
X-PUBLISHED-TTL:P3D
REFRESH-INTERVAL:P3D
CALSCALE:GREGORIAN
BEGIN:VEVENT
DTSTART:20120512T160000Z
DTEND:20120512T200000Z
X-MICROSOFT-CDO-ALLDAYEVENT:FALSE
SUMMARY:Kiwanis Touch A Truck
DESCRIPTION:Noblesville Kiwanis and the Hamilton County Sheriff's Dept. are sponsoring a Touch A Truck event for the kids of Noblesville and surrounding area. This is a chance for kids to actually sit in vehicles they see every day! \n\n\n\nThe event is FREE and kids will be able to climb on to and sit in the vehicles on display. There is not charge for companies to display a vehicle. \n\n\n\nBusinesses will also be able to display their information at a table for $25. Kiwanis uses any funds received for supporting the kids in the Noblesville Community.
X-ALT-DESC;FMTTYPE=text/html:Noblesville Kiwanis and the Hamilton County Sheriff's Dept. are sponsoring a Touch A Truck event for the kids of Noblesville and surrounding area. This is a chance for kids to actually sit in vehicles they see every day! <br />\n<br />\nThe event is FREE and kids will be able to climb on to and sit in the vehicles on display. There is not charge for companies to display a vehicle. <br />\n<br />\nBusinesses will also be able to display their information at a table for $25. Kiwanis uses any funds received for supporting the kids in the Noblesville Community.
LOCATION:Hamilton County Fairgrounds on Pleasant Street\, across from the Noblesville Post Office.
UID:e.1538.281
SEQUENCE:3
DTSTAMP:20260420T235409Z
URL:https://business.noblesvillechamber.com/events/details/kiwanis-touch-a-truck-05-12-2012-281
END:VEVENT

END:VCALENDAR
