BEGIN:VCALENDAR
VERSION:2.0
PRODID:-//ChamberMaster//Event Calendar 2.0//EN
METHOD:PUBLISH
X-PUBLISHED-TTL:P3D
REFRESH-INTERVAL:P3D
CALSCALE:GREGORIAN
BEGIN:VEVENT
DTSTART:20140415T130000Z
DTEND:20140415T160000Z
X-MICROSOFT-CDO-ALLDAYEVENT:FALSE
SUMMARY:KNOW YOUR NUMBERS HEALTH SCREENING
DESCRIPTION:2014 Know Your Numbers  Cholesterol/Glucose screening dates for\n\nCommunity Health Network Hospitals\n\n \n\nAll of the FREE screenings will be offered from 9 a.m. - 12 p.m. \n\nTo ensure that you will be screened\, you must arrive by 11:30 am to secure a screening opportunity.  The screenings end at 12pm.  (Unless otherwise noted)  Fasting for 10 hours is recommended for best Total Profile results. Please be sure to take all necessary medication and drink 8-16 ounces of water prior to the screening. Thank you.
X-ALT-DESC;FMTTYPE=text/html:<span style="font-size:14px\;">&nbsp\;<br />\n<strong><u><span style="font-family:calibri\,sans-serif\;">2014 Know Your Numbers&nbsp\; Cholesterol/Glucose screening dates for</span></u></strong><br />\n<strong><u><span style="font-family:calibri\,sans-serif\;">Community Health Network Hospitals</span></u></strong><br />\n&nbsp\;<br />\n<strong><span style="font-family:calibri\,sans-serif\;">All of the <em>FREE</em> screenings will be offered from 9 a.m. - 12 p.m. </span></strong><br />\n<strong><span style="font-family:calibri\,sans-serif\;">To ensure that you will be screened\, you must arrive by 11:30 am to secure a screening opportunity.&nbsp\; The screenings end at 12pm. &nbsp\;<em>(Unless otherwise noted)</em> &nbsp\;Fasting for 10 hours is recommended for best Total Profile results. Please be sure to take all necessary medication and drink 8-16 ounces of water prior to the screening. Thank you.</span></strong></span>
LOCATION:COMMUNITY HEART AND VASCULAR HOSPITAL\, MAIN LOBBY 8075 N. SHADELAND AVE.\, INDIANAPOLIS\, IN
UID:e.1538.589
SEQUENCE:3
DTSTAMP:20260419T130354Z
URL:https://business.noblesvillechamber.com/events/details/know-your-numbers-health-screening-589
END:VEVENT

END:VCALENDAR
