BEGIN:VCALENDAR
VERSION:2.0
PRODID:-//ChamberMaster//Event Calendar 2.0//EN
METHOD:PUBLISH
X-PUBLISHED-TTL:P3D
REFRESH-INTERVAL:P3D
CALSCALE:GREGORIAN
BEGIN:VEVENT
DTSTART:20130302T223000Z
DTEND:20130303T023000Z
X-MICROSOFT-CDO-ALLDAYEVENT:FALSE
SUMMARY:Legacy Christian School Banquet and Silent Auction
DESCRIPTION:This special (adults only) evening includes appetizers\, live and silent auctions\, student performances\, testimonies\, a catered meal accompanied by music\, desserts and an opportunity to celebrate all that God has done at Legacy Christian School!
X-ALT-DESC;FMTTYPE=text/html:This special (adults only) evening includes appetizers\, live and silent auctions\, student performances\, testimonies\, a catered meal accompanied by music\, desserts and an opportunity to celebrate all that God has done at Legacy Christian School! 
LOCATION:East Street Studios 18880 East Street Westfield\, IN 46074
UID:e.1538.395
SEQUENCE:3
DTSTAMP:20260420T085425Z
URL:https://business.noblesvillechamber.com/events/details/legacy-christian-school-banquet-and-silent-auction-395
END:VEVENT

END:VCALENDAR
