BEGIN:VCALENDAR
VERSION:2.0
PRODID:-//ChamberMaster//Event Calendar 2.0//EN
METHOD:PUBLISH
X-PUBLISHED-TTL:P3D
REFRESH-INTERVAL:P3D
CALSCALE:GREGORIAN
BEGIN:VEVENT
DTSTART:20131115T123000Z
DTEND:20131115T140000Z
X-MICROSOFT-CDO-ALLDAYEVENT:FALSE
SUMMARY:Legislative Breakfast Fall Forum: Agriculture in Hamilton County
DESCRIPTION:Join us for breakfast as our panel discusses the impact of Hamilton County's agriculture industry locally and beyond.\n\n\n\nPanelists include\n\n-Bruce Kettler\, Marketing Director of Beck's Hybrids\n\n-Don Orr\, President of JBS United\n\n-Gary Reynolds\, President of Reynolds Farm Equipment\n\n\n\nThis breakfast series is presented by the Hamilton County Business Issues Committee\, which holds representatives from all six Hamilton County Chambers. They advocate on issues of importance to local business and the community. The Legislative Fall Forum and the Legislative Breakfast series offered in January\, February and March provide information on current legislative issues and offers you the opportunity to meet your local legislators.\n\n\n\nReservations are required and can be made through the Fishers Chamber online or by calling 317-578-0700.\n\n\n\nCost: $15 for members\, $20 for non-members.
X-ALT-DESC;FMTTYPE=text/html:Join us for breakfast as our panel discusses the impact of Hamilton County&#39\;s agriculture industry locally and beyond.<br />\n<br />\n<strong>Panelists include</strong><br />\n<em>-Bruce Kettler\, Marketing Director of Beck&#39\;s Hybrids<br />\n-</em><em>Don Orr\, President of JBS United<br />\n-Gary Reynolds\, President of Reynolds Farm Equipment</em><br />\n<br />\nThis breakfast series is presented by the Hamilton County Business Issues Committee\, which holds representatives from all six Hamilton County Chambers. They advocate on issues of importance to local business and the community. The Legislative Fall Forum and the Legislative Breakfast series offered in January\, February and March provide information on current legislative issues and offers you the opportunity to meet your local legislators.<br />\n<br />\nReservations are required and can be made through the Fishers Chamber <a href="http://business.fisherschamber.com/events/details/legislative-breakfast-fall-forum-2869" target="_blank">online</a> or by calling 317-578-0700.<br />\n<br />\n<strong>Cost: $15 for members\, $20 for non-members</strong>.
LOCATION:The Mansion at Oak Hill 5801 E. 116th Street Carmel\, IN 46033
UID:e.1538.534
SEQUENCE:3
DTSTAMP:20260419T203400Z
URL:https://business.noblesvillechamber.com/events/details/legislative-breakfast-fall-forum-agriculture-in-hamilton-county-534
END:VEVENT

END:VCALENDAR
