BEGIN:VCALENDAR
VERSION:2.0
PRODID:-//ChamberMaster//Event Calendar 2.0//EN
METHOD:PUBLISH
X-PUBLISHED-TTL:P3D
REFRESH-INTERVAL:P3D
CALSCALE:GREGORIAN
BEGIN:VEVENT
DTSTART;VALUE=DATE:20140304
DTEND;VALUE=DATE:20140310
TRANSP:TRANSPARENT
X-MICROSOFT-CDO-ALLDAYEVENT:TRUE
SUMMARY:Live life in Color
DESCRIPTION:Enjoy 20% off your full price purchase through 3/9/2014.
X-ALT-DESC;FMTTYPE=text/html:Enjoy 20% off your full price purchase through 3/9/2014.
LOCATION:Chico's Hamilton Town Center
UID:e.1538.581
SEQUENCE:3
DTSTAMP:20260419T154535Z
URL:https://business.noblesvillechamber.com/events/details/live-life-in-color-581
END:VEVENT

END:VCALENDAR
