BEGIN:VCALENDAR
VERSION:2.0
PRODID:-//ChamberMaster//Event Calendar 2.0//EN
METHOD:PUBLISH
X-PUBLISHED-TTL:P3D
REFRESH-INTERVAL:P3D
CALSCALE:GREGORIAN
BEGIN:VEVENT
DTSTART:20110824T213000Z
DTEND:20110825T000000Z
X-MICROSOFT-CDO-ALLDAYEVENT:FALSE
SUMMARY:Look Good Feel Good ...from the inside out! - FREE SEMINAR
DESCRIPTION:Our office\, in conjunction with Hamilton Surgical Arts (Dr. Robert Jackson)\, will be hosting a Free seminar.  Topics of discussion will include bio-identical hormone replacement therapy\, testosterone treatment for men\, mommy makeovers\, facial rejuvenation and skin cancer awareness and prevention.\nWe will offer FREE hormone screening for men and women\, as well as FREE skin cancer screenings by a Board Certified Dermatologist.
X-ALT-DESC;FMTTYPE=text/html:Our office\, in conjunction with Hamilton Surgical Arts (Dr. Robert Jackson)\, will be hosting a Free seminar.  Topics of discussion will include bio-identical hormone replacement therapy\, testosterone treatment for men\, mommy makeovers\, facial rejuvenation and skin cancer awareness and prevention.\nWe will offer FREE hormone screening for men and women\, as well as FREE skin cancer screenings by a Board Certified Dermatologist.
LOCATION:We are located on the north side of 146th Street\, between 37 and Cumberland Road. (Right across the street from the Community Hospital building where the new MedCheck is located).
UID:e.1538.203
SEQUENCE:3
DTSTAMP:20260421T141854Z
URL:https://business.noblesvillechamber.com/events/details/look-good-feel-good-from-the-inside-out-free-seminar-08-24-2011-203
END:VEVENT

END:VCALENDAR
