BEGIN:VCALENDAR
VERSION:2.0
PRODID:-//ChamberMaster//Event Calendar 2.0//EN
METHOD:PUBLISH
X-PUBLISHED-TTL:P3D
REFRESH-INTERVAL:P3D
CALSCALE:GREGORIAN
BEGIN:VEVENT
DTSTART:20131021T153000Z
DTEND:20131021T170000Z
X-MICROSOFT-CDO-ALLDAYEVENT:FALSE
SUMMARY:Lunch and Learn: How Obamacare Affects Your Company's Health Care
DESCRIPTION:Lunch and Learn: How Obamacare Affects Your Company's Health Care\n\n\n\nObamacare begins October 1 and affects every small business.  Employers still have disclosure requirements\, and employees must still enroll in a health insurance plan or face a penalty tax.  Learn how you can help all your employees comply with the law\, improve your healthcare benefits\, and lower your benefits costs.  Lunch and learn with a panel discussion from an attorney\, an accountant and a health insurance agent.  No admission fee\, but reservations are required for lunch.\n\n\n\nHost: Jay Cox\, Personal Benefits Service LLC\n\n\n\nLocated at the Fishers Office Suites\, 14074 Trade Center Drive at the southwest corner of SR 37 and 141st Street. Across from Buffalo Wild Wings.
X-ALT-DESC;FMTTYPE=text/html:<span class="cm_editor_fix"><strong>Lunch and Learn: How Obamacare Affects Your Company&#39\;s Health Care</strong><br />\n<br />\n<span style="font-family:calibri\,sans-serif\;"><span style="font-size:11.0pt\;">Obamacare begins October 1 and affects every small business.&nbsp\; Employers still have disclosure requirements\, and employees must still enroll in a health insurance plan or face a penalty tax.&nbsp\; Learn how you can help all your employees comply with the law\, improve your healthcare benefits\, and lower your benefits costs.&nbsp\; Lunch and learn with a panel discussion from an attorney\, an accountant and a health insurance agent.&nbsp\; No admission fee\, but reservations are required for lunch.<br />\n<br />\nHost: Jay Cox\, Personal Benefits Service LLC<br />\n<br />\nLocated at the Fishers Office Suites\, 14074 Trade Center Drive at the southwest corner of SR 37 and 141st Street. Across from Buffalo Wild Wings.</span></span></span>
LOCATION:Fishers Office Suites 14074 Trade Center Drive
UID:e.1538.518
SEQUENCE:3
DTSTAMP:20260419T214536Z
URL:https://business.noblesvillechamber.com/events/details/lunch-and-learn-how-obamacare-affects-your-company-s-health-care-10-21-2013-518
END:VEVENT

END:VCALENDAR
