BEGIN:VCALENDAR
VERSION:2.0
PRODID:-//ChamberMaster//Event Calendar 2.0//EN
METHOD:PUBLISH
X-PUBLISHED-TTL:P3D
REFRESH-INTERVAL:P3D
CALSCALE:GREGORIAN
BEGIN:VEVENT
DTSTART:20130316T153000Z
DTEND:20130316T173000Z
X-MICROSOFT-CDO-ALLDAYEVENT:FALSE
SUMMARY:Mad Hatter Tea
DESCRIPTION:Celebrate Your Unbirthday with Us!\n\n\n\nR.L. Wilson House presents it's 3rd annual Mad Hatter Tea Party.\n\n\n\nInvite your friends to this comical and light hearted unbirthday celebration. Also\, a good time to bring children for experience in etiquette. The Mad Hatter greets you at the door and keeps you entertained the whole time with his witty antics\, riddles\, and add libs. A 5-course tea is prepared and served to you along with delicious tea pairings. For the grand finale Heavenly Sweets\, known for their moist\, delicious cake and signature butter cream frosting 'as smooth as fondant'\, suprises you with a delictable unbirthday suprise.
X-ALT-DESC;FMTTYPE=text/html:<span style="color: #800080"><span style="font-size: 16px"><strong>Celebrate Your Unbirthday with Us!</strong></span></span><br />\n<br />\n<em><span style="color: #800080">R.L. Wilson House presents it&#39\;s 3rd annual Mad Hatter Tea Party.</span></em><br />\n<br />\nInvite your friends to this comical and light hearted unbirthday celebration. Also\, a good time to bring children for experience in etiquette. The Mad Hatter greets you at the door and keeps you entertained the whole time with his witty antics\, riddles\, and add libs. A 5-course tea is prepared and served to you along with delicious tea pairings. For the grand finale Heavenly Sweets\, known for their moist\, delicious cake and signature butter cream frosting &#39\;as smooth as fondant&#39\;\, suprises you with a delictable unbirthday suprise.
LOCATION:273 S. 8th Street\, Noblesville\, IN 46060
UID:e.1538.365
SEQUENCE:3
DTSTAMP:20260420T092144Z
URL:https://business.noblesvillechamber.com/events/details/mad-hatter-tea-365
END:VEVENT

END:VCALENDAR
