BEGIN:VCALENDAR
VERSION:2.0
PRODID:-//ChamberMaster//Event Calendar 2.0//EN
METHOD:PUBLISH
X-PUBLISHED-TTL:P3D
REFRESH-INTERVAL:P3D
CALSCALE:GREGORIAN
BEGIN:VEVENT
DTSTART:20130302T150000Z
DTEND:20130302T180000Z
X-MICROSOFT-CDO-ALLDAYEVENT:FALSE
SUMMARY:Maple Syrup Program at Bray Family Homestead Park
DESCRIPTION:Get "sappy" with Hamilton County Parks. The staff will be demonstrating the tapping process on some of the same trees that the Bray Family tapped over the last 150 years.  Traditional and modern equipment used in the process will be featured as well as information about the folklore\, history\, and facts about Maple trees. Please enter the park off of Hinkle Road into our new installed parking lot.\n\n	Dress for the weather and potentially muddy conditions.\n\n	 \n\n	Date: Saturday\, March 2\n\n	Time: 10:00 a.m. to 1:00 p.m.\n\n	Pre-registration: Yes\, by calling 317-774-2500 or email: cool.naturecenter@hamiltoncounty.in.gov\n\n	Location: Bray Family Homestead Park
X-ALT-DESC;FMTTYPE=text/html:<p class="MsoNoSpacing" style="margin: 0in 0in 0pt">\n	<span style="mso-bidi-font-family: calibri\; mso-bidi-theme-font: minor-latin\; mso-bidi-font-weight: bold"><font size="3"><font color="#000000"><font face="Calibri">Get &ldquo\;sappy&rdquo\; with Hamilton County Parks. The staff will be demonstrating the tapping process on some of the same trees that the Bray Family tapped over the last 150 years.<span style="mso-spacerun: yes">&nbsp\; </span>Traditional and modern equipment used in the process will be featured as well as information about the folklore\, history\, and facts about Maple trees. Please enter the park off of Hinkle Road into our new installed parking lot.<o:p></o:p></font></font></font></span></p>\n<p class="MsoNoSpacing" style="margin: 0in 0in 0pt">\n	<span style="mso-bidi-font-family: calibri\; mso-bidi-theme-font: minor-latin\; mso-bidi-font-weight: bold"><font size="3"><font color="#000000"><font face="Calibri">Dress for the weather and potentially muddy conditions.<o:p></o:p></font></font></font></span></p>\n<p class="MsoNoSpacing" style="margin: 0in 0in 0pt">\n	<span style="mso-bidi-font-family: calibri\; mso-bidi-theme-font: minor-latin\; mso-bidi-font-weight: bold"><o:p><font color="#000000" face="Calibri" size="3">&nbsp\;</font></o:p></span></p>\n<p class="MsoNoSpacing" style="margin: 0in 0in 0pt">\n	<span style="mso-bidi-font-family: calibri\; mso-bidi-theme-font: minor-latin\; mso-bidi-font-weight: bold"><font size="3"><font color="#000000"><font face="Calibri">Date: Saturday\, March 2<o:p></o:p></font></font></font></span></p>\n<p class="MsoNoSpacing" style="margin: 0in 0in 0pt">\n	<span style="mso-bidi-font-family: calibri\; mso-bidi-theme-font: minor-latin\; mso-bidi-font-weight: bold"><font size="3"><font color="#000000"><font face="Calibri">Time: 10:00 a.m. to 1:00 p.m.<o:p></o:p></font></font></font></span></p>\n<p class="MsoNoSpacing" style="margin: 0in 0in 0pt">\n	<span style="mso-bidi-font-family: calibri\; mso-bidi-theme-font: minor-latin\; mso-bidi-font-weight: bold"><font size="3"><font color="#000000"><font face="Calibri">Pre-registration: Yes\, by calling 317-774-2500 or email: c<i>ool.naturecenter@hamiltoncounty.in.gov</i><i><o:p></o:p></i></font></font></font></span></p>\n<p class="MsoNoSpacing" style="margin: 0in 0in 0pt">\n	<span style="mso-bidi-font-family: calibri\; mso-bidi-theme-font: minor-latin\; mso-bidi-font-weight: bold"><font size="3"><font color="#000000"><font face="Calibri">Location: Bray Family Homestead Park<o:p></o:p></font></font></font></span></p>\n
LOCATION:Bray Family Homestead Park
UID:e.1538.401
SEQUENCE:3
DTSTAMP:20260420T085111Z
URL:https://business.noblesvillechamber.com/events/details/maple-syrup-program-at-bray-family-homestead-park-401
END:VEVENT

END:VCALENDAR
