BEGIN:VCALENDAR
VERSION:2.0
PRODID:-//ChamberMaster//Event Calendar 2.0//EN
METHOD:PUBLISH
X-PUBLISHED-TTL:P3D
REFRESH-INTERVAL:P3D
CALSCALE:GREGORIAN
BEGIN:VEVENT
DTSTART:20110125T123000Z
DTEND:20110125T140000Z
X-MICROSOFT-CDO-ALLDAYEVENT:FALSE
SUMMARY:Marketing for small businesses: Free Seminar
DESCRIPTION:The Fishers\, Noblesville and Hamilton North Chambers have partnered with Star Media to present marketing strategies to maximize your existing efforts and give insight on new trends. This is an educational opportunity for the business community\, not a sales pitch!\n\nTopics covered will include:\n\n1. The importance of knowing your target audience and how to research on your own.\n\n2. The role of the internet as a marketing tool.\n\n3. How to evaluate your online marketing efforts.\n\n4. Five things you can do today to improve your internet marketing results.\n\nTuesday\, January 25\n7:30 a.m. registration\n8 - 9 a.m. program\n\nRegister at www.IndyStar.com/smallbusiness by January 20.\n\nFREE for all chamber members | $15 for non-members\n\nCoffee and light breakfast provided.\n\nWe hope to see you there!
X-ALT-DESC;FMTTYPE=text/html:The Fishers\, Noblesville and Hamilton North Chambers have partnered with Star Media to present marketing strategies to maximize your existing efforts and give insight on new trends. This is an educational opportunity for the business community\, not a sales pitch!\n\nTopics covered will include:\n\n1. The importance of knowing your target audience and how to research on your own.\n\n2. The role of the internet as a marketing tool.\n\n3. How to evaluate your online marketing efforts.\n\n4. Five things you can do today to improve your internet marketing results.\n\nTuesday\, January 25\n7:30 a.m. registration\n8 - 9 a.m. program\n\nRegister at www.IndyStar.com/smallbusiness by January 20.\n\nFREE for all chamber members | $15 for non-members\n\nCoffee and light breakfast provided.\n\nWe hope to see you there!
LOCATION:Cambria Suites | 13500 Tegler Drive | Noblesville
UID:e.1538.111
SEQUENCE:3
DTSTAMP:20260422T012134Z
URL:https://business.noblesvillechamber.com/events/details/marketing-for-small-businesses-free-seminar-01-25-2011-111
END:VEVENT

END:VCALENDAR
