BEGIN:VCALENDAR
VERSION:2.0
PRODID:-//ChamberMaster//Event Calendar 2.0//EN
METHOD:PUBLISH
X-PUBLISHED-TTL:P3D
REFRESH-INTERVAL:P3D
CALSCALE:GREGORIAN
BEGIN:VEVENT
DTSTART:20120418T220000Z
DTEND:20120418T230000Z
X-MICROSOFT-CDO-ALLDAYEVENT:FALSE
SUMMARY:MBA Information Session for Noblesville Cohort
DESCRIPTION:Meet the recruiter\, see the classroom\, ask questions and get more information on our various program options\, majors\, admission requirements and scheduling. Classes Starting in Noblesville in May!
X-ALT-DESC;FMTTYPE=text/html:Meet the recruiter\, see the classroom\, ask questions and get more information on our various program options\, majors\, admission requirements and scheduling. Classes Starting in Noblesville in May!
LOCATION:Hamilton Healthcare Campus (Community) 9669 E. 146th St. Noblesville\, IN 46060
UID:e.1538.263
SEQUENCE:3
DTSTAMP:20260421T012443Z
URL:https://business.noblesvillechamber.com/events/details/mba-information-session-for-noblesville-cohort-04-18-2012-263
END:VEVENT

END:VCALENDAR
