BEGIN:VCALENDAR
VERSION:2.0
PRODID:-//ChamberMaster//Event Calendar 2.0//EN
METHOD:PUBLISH
X-PUBLISHED-TTL:P3D
REFRESH-INTERVAL:P3D
CALSCALE:GREGORIAN
BEGIN:VEVENT
DTSTART:20120810T210000Z
DTEND:20120810T230000Z
X-MICROSOFT-CDO-ALLDAYEVENT:FALSE
SUMMARY:Meals on Wheels 12th Annual "Strike Out Hunger" Bowlathon
DESCRIPTION:Meals on Wheels of Hamilton County's 12th Annual "Strike Out Hunger" Bowlathon will be held August 10\, 2012. Whether you have a team of avid bowlers competing for the trophy or looking for a fun evening we'd love to have you join us. Team registration is $250.00 for 4 bowlers. Registration includes 3 games of bowling\, shoes\, food\, a fountain drink\, and prizes. Pledges can be raised to cover all or part a team's entry fee. Sponsorship opportunities available. For more information or to register please call the Meal on Wheels office at 317-776-7159. Space is limited. Organize your team. Call Today. All proceeds used to support the Meals on Wheels mission "provide the next meal...so no senior goes hungry".
X-ALT-DESC;FMTTYPE=text/html:Meals on Wheels of Hamilton County&#39\;s 12th Annual &quot\;Strike Out Hunger&quot\; Bowlathon will be held August 10\, 2012. Whether you have a team of avid bowlers competing for the trophy or looking for a fun evening we&#39\;d love to have you join us. Team registration is $250.00 for 4 bowlers. Registration includes 3 games of bowling\, shoes\, food\, a fountain drink\, and prizes. Pledges can be raised to cover all or part a team&#39\;s entry fee. Sponsorship opportunities available. For more information or to register please call the Meal on Wheels office at 317-776-7159. Space is limited. Organize your team. Call Today. All proceeds used to support the Meals on Wheels mission &quot\;provide the next meal...so no senior goes hungry&quot\;. 
LOCATION:Coopers Stardust Bowling Alley located on State Road IN-32 & Mesa Dr. in Noblesville
UID:e.1538.309
SEQUENCE:3
DTSTAMP:20260420T190430Z
URL:https://business.noblesvillechamber.com/events/details/meals-on-wheels-12th-annual-strike-out-hunger-bowlathon-08-10-2012-309
END:VEVENT

END:VCALENDAR
