BEGIN:VCALENDAR
VERSION:2.0
PRODID:-//ChamberMaster//Event Calendar 2.0//EN
METHOD:PUBLISH
X-PUBLISHED-TTL:P3D
REFRESH-INTERVAL:P3D
CALSCALE:GREGORIAN
BEGIN:VEVENT
DTSTART:20130818T180000Z
DTEND:20130818T203000Z
X-MICROSOFT-CDO-ALLDAYEVENT:FALSE
SUMMARY:Meals on Wheels 13th Annual "Strike Out Hunger" Bowl-A-Thon
DESCRIPTION:Meals on Wheels of Hamilton County will be hosting its 13th Annual "Strike Out Hunger" Bowl-A-Thon\, presented by Community Surgery Center.  Put a team together and join the fun.   Proceeds raised from this year's event will benefit the Sponsor-A-Senior Program which provides financial assistance to those who otherwise would not be able to receive a nutritious meal.  Meal service focuses on reducing hunger\, improving health\, and promoting independence in Hamilton County. The community is welcome to participate by forming teams\, donating door prizes and/or sponsoring the event. For more information\, call Meals on Wheels of Hamilton County at (317) 776-7159.
X-ALT-DESC;FMTTYPE=text/html:<p style="line-height: 13.5pt">\n	<span style="font-family: Georgia\; color: #333333"><font size="3">Meals on Wheels of Hamilton County will be hosting its 13th Annual &ldquo\;Strike Out Hunger&rdquo\; Bowl-A-Thon\, presented by <st1:place w:st="on"><st1:placename w:st="on">Community</st1:placename> <st1:placename w:st="on">Surgery</st1:placename> <st1:placetype w:st="on">Center</st1:placetype></st1:place>. <span style="mso-spacerun: yes">&nbsp\;</span>Put a team together and join the fun. &nbsp\; Proceeds raised from this year&rsquo\;s event will benefit the Sponsor-A-Senior Program which provides financial assistance to those who otherwise would not be able to receive a nutritious meal.&nbsp\; Meal service focuses on reducing hunger\, improving health\, and promoting independence in <st1:place w:st="on"><st1:placename w:st="on">Hamilton</st1:placename> <st1:placetype w:st="on">County</st1:placetype></st1:place>. The community is welcome to participate by forming teams\, donating door prizes and/or sponsoring the event. For more information\, call Meals on Wheels of Hamilton County at (317) 776-7159.<o:p></o:p></font></span></p>\n
LOCATION:Coopers Stardust Bowl 845 Westfield Rd\, Noblesville\, 46062
UID:e.1538.490
SEQUENCE:3
DTSTAMP:20260420T004611Z
URL:https://business.noblesvillechamber.com/events/details/meals-on-wheels-13th-annual-strike-out-hunger-bowl-a-thon-490
END:VEVENT

END:VCALENDAR
