BEGIN:VCALENDAR
VERSION:2.0
PRODID:-//ChamberMaster//Event Calendar 2.0//EN
METHOD:PUBLISH
X-PUBLISHED-TTL:P3D
REFRESH-INTERVAL:P3D
CALSCALE:GREGORIAN
BEGIN:VEVENT
DTSTART:20111001T140000Z
DTEND:20111001T140000Z
X-MICROSOFT-CDO-ALLDAYEVENT:FALSE
SUMMARY:Meet a Phrenologist
DESCRIPTION:1836 Prairietown \nThomas Jefferson Tripplett is back in town to attempt to read your character from the contours (bumps) on your skull. Come and find out what he says about you! Visit our website for more details.
X-ALT-DESC;FMTTYPE=text/html:1836 Prairietown \nThomas Jefferson Tripplett is back in town to attempt to read your character from the contours (bumps) on your skull. Come and find out what he says about you! Visit our website for more details. \n
LOCATION:Conner Prairie
UID:e.1538.202
SEQUENCE:3
DTSTAMP:20260421T112534Z
URL:https://business.noblesvillechamber.com/events/details/meet-a-phrenologist-10-01-2011-202
END:VEVENT

END:VCALENDAR
