BEGIN:VCALENDAR
VERSION:2.0
PRODID:-//ChamberMaster//Event Calendar 2.0//EN
METHOD:PUBLISH
X-PUBLISHED-TTL:P3D
REFRESH-INTERVAL:P3D
CALSCALE:GREGORIAN
BEGIN:VEVENT
DTSTART:20130624T230000Z
DTEND:20130625T010000Z
X-MICROSOFT-CDO-ALLDAYEVENT:FALSE
SUMMARY:Membersip Meeting 7:00p.m. Noblesville East Public Library
DESCRIPTION:Our Guest Speaker will be on hand from the "Young Marines" to discuss their\n\nprogram as well as opportunities for those considering joining the USMC...\n\n\n\nOne other item will be the discussion about updating the current War Memorial\n\nlocated in Crown Land Cemetery here in Noblesville with two new Memorial Stones\n\nhonoring our WW1 & Persian Gulf War KIA Warriors... We are also replacing the current\n\nMemorials Foundation &  replacing the current sidewalk...\n\n\n\nThe Hamilton County Veterans are working on receiving a Van to be used to Transport\n\nVeterans to the Richard L. Roudebush Veterans Hospital in Indianapolis & we are looking\n\nfor Volunteer drivers to help make this a reality here in Hamilton County.\n\n\n\n   We will have additional information at the meeting & urge all to check out website:\n\n                                          www.hamiltoncountyveterans.com
X-ALT-DESC;FMTTYPE=text/html:Our Guest Speaker will be on hand from the &quot\;Young Marines&quot\; to discuss their<br />\nprogram as well as opportunities for those considering joining the USMC...<br />\n<br />\nOne other item will be the discussion about updating the current War Memorial<br />\nlocated in Crown Land Cemetery here in Noblesville with two new Memorial Stones<br />\nhonoring our WW1 &amp\; Persian Gulf War&nbsp\;KIA Warriors...&nbsp\;We are also replacing the current<br />\nMemorials Foundation &amp\;&nbsp\;&nbsp\;replacing&nbsp\;the current&nbsp\;sidewalk...<br />\n<br />\nThe Hamilton County Veterans are working on receiving a Van to be used to Transport<br />\nVeterans to the Richard L. Roudebush Veterans Hospital in Indianapolis &amp\; we are looking<br />\nfor Volunteer drivers to help make this a reality here in Hamilton County.<br />\n<br />\n&nbsp\;&nbsp\; We will have additional information at the meeting &amp\; urge all to check out website:<br />\n&nbsp\;&nbsp\;&nbsp\;&nbsp\;&nbsp\;&nbsp\;&nbsp\;&nbsp\;&nbsp\;&nbsp\;&nbsp\;&nbsp\;&nbsp\;&nbsp\;&nbsp\;&nbsp\;&nbsp\;&nbsp\;&nbsp\;&nbsp\;&nbsp\;&nbsp\;&nbsp\;&nbsp\;&nbsp\;&nbsp\;&nbsp\;&nbsp\;&nbsp\;&nbsp\;&nbsp\;&nbsp\;&nbsp\;&nbsp\;&nbsp\;&nbsp\;&nbsp\;&nbsp\;&nbsp\;&nbsp\;&nbsp\; <a href="http://www.hamiltoncountyveterans.com">www.hamiltoncountyveterans.com</a>&nbsp\;<br />\n
LOCATION:Noblesville Public Library
UID:e.1538.479
SEQUENCE:3
DTSTAMP:20260420T034501Z
URL:https://business.noblesvillechamber.com/events/details/membersip-meeting-7-00p-m-noblesville-east-public-library-479
END:VEVENT

END:VCALENDAR
