BEGIN:VCALENDAR
VERSION:2.0
PRODID:-//ChamberMaster//Event Calendar 2.0//EN
METHOD:PUBLISH
X-PUBLISHED-TTL:P3D
REFRESH-INTERVAL:P3D
CALSCALE:GREGORIAN
BEGIN:VEVENT
DTSTART:20110528T150000Z
DTEND:20110530T210000Z
X-MICROSOFT-CDO-ALLDAYEVENT:FALSE
SUMMARY:Memorial Weekend
DESCRIPTION:Open Memorial Day weekend with FREE general admission to military personnel and their families as part of the Blue Star Museums program\, a partnership with the National Endowment for the Arts. Explore all Conner Prairie has to offer including special programming for Memorial Day weekend\, a farm wedding in 1836 Prairietown where you can join residents as they celebrate the marriage of  Ada Noreen McClure and James Cox. The Blue Star Museum offer for military families is good through Labor Day\, September 5\, 2011.
X-ALT-DESC;FMTTYPE=text/html:Open Memorial Day weekend with FREE general admission to military personnel and their families as part of the Blue Star Museums program\, a partnership with the National Endowment for the Arts. Explore all Conner Prairie has to offer including special programming for Memorial Day weekend\, a farm wedding in 1836 Prairietown where you can join residents as they celebrate the marriage of  Ada Noreen McClure and James Cox. The Blue Star Museum offer for military families is good through Labor Day\, September 5\, 2011.
LOCATION:Conner Prairie Interactive History Park
UID:e.1538.156
SEQUENCE:3
DTSTAMP:20260421T185713Z
URL:https://business.noblesvillechamber.com/events/details/memorial-weekend-05-28-2011-156
END:VEVENT

END:VCALENDAR
