BEGIN:VCALENDAR
VERSION:2.0
PRODID:-//ChamberMaster//Event Calendar 2.0//EN
METHOD:PUBLISH
X-PUBLISHED-TTL:P3D
REFRESH-INTERVAL:P3D
CALSCALE:GREGORIAN
BEGIN:VEVENT
DTSTART:20110117T150000Z
DTEND:20110117T220000Z
X-MICROSOFT-CDO-ALLDAYEVENT:FALSE
SUMMARY:MLK Jr. Day
DESCRIPTION:This free public day honors King's commitment to community and education by offering tours of the Conner Homestead\, science activities\, a sneak peak of the new 1863 Civil War Journey: Raid on Indiana\, and stories about the 28th Regiment United States Colored Troops. Families are invited to explore multiple activities such as the Discovery Station where imaginations run wild\, the Craft Corner where paper dolls are decorated and joined hand-to-hand with others for the ''We Are Alike'' people quilt and the Science Lab where your family can learn all the ways we are alike and different through activities that explore race and genetics. Call 317.776.6006 or visit connerprairie.org for more information.
X-ALT-DESC;FMTTYPE=text/html:This free public day honors King's commitment to community and education by offering tours of the Conner Homestead\, science activities\, a sneak peak of the new 1863 Civil War Journey: Raid on Indiana\, and stories about the 28th Regiment United States Colored Troops. Families are invited to explore multiple activities such as the Discovery Station where imaginations run wild\, the Craft Corner where paper dolls are decorated and joined hand-to-hand with others for the ''We Are Alike'' people quilt and the Science Lab where your family can learn all the ways we are alike and different through activities that explore race and genetics. Call 317.776.6006 or visit connerprairie.org for more information.  
LOCATION:Conner Prairie is located in Fishers\, Ind.\, just six miles north of Indianapolis on Allisonville Road (exit 5 from Interstate 69 or exit 35 from Interstate 465). Welcome Center parking is free.
UID:e.1538.109
SEQUENCE:3
DTSTAMP:20260422T012818Z
URL:https://business.noblesvillechamber.com/events/details/mlk-jr-day-01-17-2011-109
END:VEVENT

END:VCALENDAR
