BEGIN:VCALENDAR
VERSION:2.0
PRODID:-//ChamberMaster//Event Calendar 2.0//EN
METHOD:PUBLISH
X-PUBLISHED-TTL:P3D
REFRESH-INTERVAL:P3D
CALSCALE:GREGORIAN
BEGIN:VEVENT
DTSTART:20120711T230000Z
DTEND:20120711T230000Z
X-MICROSOFT-CDO-ALLDAYEVENT:FALSE
SUMMARY:Morse Park Triathlon
DESCRIPTION:Cool Creek Campfires\n\nJoin us around the Cool Creek campfire ring for songs\,\npresentations\, and marshmallows. Cindy Baney\, music\neducator with Moriah Music\, will start the evening off\nwith music. Special speakers will then entertain guests\neach week with topics about snakes\, birds\, turtles\, and\nmore. Hang out with your family and friends during\nthese special Wednesday evenings. Don't forget to\nbring your lawn chairs or blankets.\nDates: July 11\nTime: 7:00 p.m.\nCost: Free\nAges: All\nLocation: Cool Creek Park (north-side of the park)\n     2000 East 151st Street\n     Carmel/Westfield\, IN 46033\n\n\nAdaptations Abounding / July 11\nWelcome ANIMALIA again as we see the strange ways that\nanimals have physically adapted to their environment to\nfind food\, protect themselves\, hunt and to attract a mate.
X-ALT-DESC;FMTTYPE=text/html:Cool Creek Campfires\n\nJoin us around the Cool Creek campfire ring for songs\,\npresentations\, and marshmallows. Cindy Baney\, music\neducator with Moriah Music\, will start the evening off\nwith music. Special speakers will then entertain guests\neach week with topics about snakes\, birds\, turtles\, and\nmore. Hang out with your family and friends during\nthese special Wednesday evenings. Don't forget to\nbring your lawn chairs or blankets.\nDates: July 11\nTime: 7:00 p.m.\nCost: Free\nAges: All\nLocation: Cool Creek Park (north-side of the park)\n     2000 East 151st Street\n     Carmel/Westfield\, IN 46033\n\n\nAdaptations Abounding / July 11\nWelcome ANIMALIA again as we see the strange ways that\nanimals have physically adapted to their environment to\nfind food\, protect themselves\, hunt and to attract a mate.\n\n
LOCATION:Cool Creek Park (North Side)
UID:e.1538.303
SEQUENCE:3
DTSTAMP:20260420T203150Z
URL:https://business.noblesvillechamber.com/events/details/morse-park-triathlon-07-11-2012-303
END:VEVENT

END:VCALENDAR
