BEGIN:VCALENDAR
VERSION:2.0
PRODID:-//ChamberMaster//Event Calendar 2.0//EN
METHOD:PUBLISH
X-PUBLISHED-TTL:P3D
REFRESH-INTERVAL:P3D
CALSCALE:GREGORIAN
BEGIN:VEVENT
DTSTART:20120718T230000Z
DTEND:20120718T230000Z
X-MICROSOFT-CDO-ALLDAYEVENT:FALSE
SUMMARY:Morse Park Triathlon
DESCRIPTION:Cool Creek Campfires\n\nJoin us around the Cool Creek campfire ring for songs\,\npresentations\, and marshmallows. Cindy Baney\, music\neducator with Moriah Music\, will start the evening off\nwith music. Special speakers will then entertain guests\neach week with topics about snakes\, birds\, turtles\, and\nmore. Hang out with your family and friends during\nthese special Wednesday evenings. Don't forget to\nbring your lawn chairs or blankets.\nDates: July 18Time: 7:00 p.m.\nCost: Free\nAges: All\nLocation: Cool Creek Park (north-side of the park)\n     2000 East 151st Street\n     Carmel/Westfield\, IN 46033\n\nAmazing World of Animals / July 18\nAnimals from all over the world will be at our campfire\nring. Larry Battson\, wildlife educator and handler\, will talk\nto us about animal lives\, conservation\, and more.
X-ALT-DESC;FMTTYPE=text/html:Cool Creek Campfires\n\nJoin us around the Cool Creek campfire ring for songs\,\npresentations\, and marshmallows. Cindy Baney\, music\neducator with Moriah Music\, will start the evening off\nwith music. Special speakers will then entertain guests\neach week with topics about snakes\, birds\, turtles\, and\nmore. Hang out with your family and friends during\nthese special Wednesday evenings. Don't forget to\nbring your lawn chairs or blankets.\nDates: July 18Time: 7:00 p.m.\nCost: Free\nAges: All\nLocation: Cool Creek Park (north-side of the park)\n     2000 East 151st Street\n     Carmel/Westfield\, IN 46033\n\nAmazing World of Animals / July 18\nAnimals from all over the world will be at our campfire\nring. Larry Battson\, wildlife educator and handler\, will talk\nto us about animal lives\, conservation\, and more.\n
LOCATION:Cool Creek Park (North Side)
UID:e.1538.302
SEQUENCE:3
DTSTAMP:20260420T203130Z
URL:https://business.noblesvillechamber.com/events/details/morse-park-triathlon-07-18-2012-302
END:VEVENT

END:VCALENDAR
