BEGIN:VCALENDAR
VERSION:2.0
PRODID:-//ChamberMaster//Event Calendar 2.0//EN
METHOD:PUBLISH
X-PUBLISHED-TTL:P3D
REFRESH-INTERVAL:P3D
CALSCALE:GREGORIAN
BEGIN:VEVENT
DTSTART:20110507T150000Z
DTEND:20110508T210000Z
X-MICROSOFT-CDO-ALLDAYEVENT:FALSE
SUMMARY:Mother's Day Plant Sale
DESCRIPTION:Do you know a mother that enjoys growing her own plants\, herbs and vegetables? Browse 20 different varieties of plants\, herbs and heirloom tomatoes at Conner Prairie's Plant Sale to make any mom's garden beautiful this spring. The sale supports gardens in historic areas and provides a hands-on experience as guests help plant\, cultivate\, harvest and preserve heirloom plants representing the 1830s to the early 1900s. A portion of the produce from Conner Prairie's gardens is provided to feed the hungry in Hamilton County. Prices range from $2-5. Call 317.776.6006 or visit connerprairie.org for more information.
X-ALT-DESC;FMTTYPE=text/html:Do you know a mother that enjoys growing her own plants\, herbs and vegetables? Browse 20 different varieties of plants\, herbs and heirloom tomatoes at Conner Prairie's Plant Sale to make any mom's garden beautiful this spring. The sale supports gardens in historic areas and provides a hands-on experience as guests help plant\, cultivate\, harvest and preserve heirloom plants representing the 1830s to the early 1900s. A portion of the produce from Conner Prairie's gardens is provided to feed the hungry in Hamilton County. Prices range from $2-5. Call 317.776.6006 or visit connerprairie.org for more information.
LOCATION:Conner Prairie Interactive History Park
UID:e.1538.154
SEQUENCE:3
DTSTAMP:20260421T190124Z
URL:https://business.noblesvillechamber.com/events/details/mother-s-day-plant-sale-05-07-2011-154
END:VEVENT

END:VCALENDAR
