BEGIN:VCALENDAR
VERSION:2.0
PRODID:-//ChamberMaster//Event Calendar 2.0//EN
METHOD:PUBLISH
X-PUBLISHED-TTL:P3D
REFRESH-INTERVAL:P3D
CALSCALE:GREGORIAN
BEGIN:VEVENT
DTSTART:20110925T160000Z
DTEND:20110925T210000Z
X-MICROSOFT-CDO-ALLDAYEVENT:FALSE
SUMMARY:Mustard Seed Gardens Bridal Showcase
DESCRIPTION:Bridal Show\, free admission\, Wedding Vendors\, tours\, food and Grand Prize Giveaway.\n\nSunday\, September 25th from 12 noon to 5 pm.\n\n317-776-2300
X-ALT-DESC;FMTTYPE=text/html:Bridal Show\, free admission\, Wedding Vendors\, tours\, food and Grand Prize Giveaway.\n\nSunday\, September 25th from 12 noon to 5 pm.\n\n317-776-2300
LOCATION:SR 32\, west of downtoen Noblesville\, southeast corner of Hague Road and SR32
UID:e.1538.207
SEQUENCE:3
DTSTAMP:20260421T125133Z
URL:https://business.noblesvillechamber.com/events/details/mustard-seed-gardens-bridal-showcase-09-25-2011-207
END:VEVENT

END:VCALENDAR
