BEGIN:VCALENDAR
VERSION:2.0
PRODID:-//ChamberMaster//Event Calendar 2.0//EN
METHOD:PUBLISH
X-PUBLISHED-TTL:P3D
REFRESH-INTERVAL:P3D
CALSCALE:GREGORIAN
BEGIN:VEVENT
DTSTART:20110415T170000Z
DTEND:20110418T210000Z
X-MICROSOFT-CDO-ALLDAYEVENT:FALSE
SUMMARY:National Health Care Directive Day
DESCRIPTION:Need a Health Care Representative? Need a Living Will?\nWe invite you to join us at Community Bank in Fishers to meet with a Hunter Law Office attorney and create your own Health Care Proxy and Living Will at no cost to you.\nTell your family your wishes should you become disabled or incapacitated.\nApril 15 & April 18 1—5 pm
X-ALT-DESC;FMTTYPE=text/html:Need a Health Care Representative? Need a Living Will?\nWe invite you to join us at Community Bank in Fishers to meet with a Hunter Law Office attorney and create your own Health Care Proxy and Living Will at no cost to you.\nTell your family your wishes should you become disabled or incapacitated.\nApril 15 & April 18 1—5 pm\n
LOCATION:Community Bank Lobby S.E. Corner of State Rd 37 and 126th street
UID:e.1538.159
SEQUENCE:3
DTSTAMP:20260421T222423Z
URL:https://business.noblesvillechamber.com/events/details/national-health-care-directive-day-04-15-2011-159
END:VEVENT

END:VCALENDAR
