BEGIN:VCALENDAR
VERSION:2.0
PRODID:-//ChamberMaster//Event Calendar 2.0//EN
METHOD:PUBLISH
X-PUBLISHED-TTL:P3D
REFRESH-INTERVAL:P3D
CALSCALE:GREGORIAN
BEGIN:VEVENT
DTSTART;VALUE=DATE:20130223
DTEND;VALUE=DATE:20130311
TRANSP:TRANSPARENT
X-MICROSOFT-CDO-ALLDAYEVENT:TRUE
SUMMARY:Nature's Inspirations: Art Exhibit at Cool Creek Nature Center
DESCRIPTION:Get inspired by the work of artists who capture nature and its majesty. This exhibit features \n\n	nature-inspired artwork including paintings\, photography\, and other art mediums. Work from both professional and amateur artists will be featured. Visitors to the exhibit will be encouraged to cast a vote for their favorite entries. Be sure to mark your calendars and make plans to see the inspirational artwork on display.\n\n	 \n\n	Dates: February 23-March 10\n\n	Times: During Cool Creek Nature Center hours\n\n	Cost: Free\n\n	Location: Cool Creek Nature Center
X-ALT-DESC;FMTTYPE=text/html:<p class="MsoNoSpacing" style="margin: 0in 0in 0pt">\n	<span style="mso-bidi-font-family: calibri\; mso-bidi-theme-font: minor-latin"><font size="3"><font color="#000000"><font face="Calibri">Get inspired by the work of artists who capture nature and its majesty. This exhibit features <o:p></o:p></font></font></font></span></p>\n<p class="MsoNoSpacing" style="margin: 0in 0in 0pt">\n	<span style="mso-bidi-font-family: calibri\; mso-bidi-theme-font: minor-latin"><font size="3"><font color="#000000"><font face="Calibri">nature-inspired artwork including paintings\, photography\, and other art mediums. Work from both professional and amateur artists will be featured. Visitors to the exhibit will be encouraged to cast a vote for their favorite entries. Be sure to mark your calendars and make plans to see the inspirational artwork on display.<o:p></o:p></font></font></font></span></p>\n<p class="MsoNoSpacing" style="margin: 0in 0in 0pt">\n	<span style="mso-bidi-font-family: calibri\; mso-bidi-theme-font: minor-latin"><o:p><font color="#000000" face="Calibri" size="3">&nbsp\;</font></o:p></span></p>\n<p class="MsoNoSpacing" style="margin: 0in 0in 0pt">\n	<font size="3"><font color="#000000"><font face="Calibri"><span style="mso-bidi-font-family: calibri\; mso-bidi-theme-font: minor-latin\; mso-bidi-font-weight: bold">Dates: </span><span style="mso-bidi-font-family: calibri\; mso-bidi-theme-font: minor-latin">February 23-March 10<o:p></o:p></span></font></font></font></p>\n<p class="MsoNoSpacing" style="margin: 0in 0in 0pt">\n	<font size="3"><font color="#000000"><font face="Calibri"><span style="mso-bidi-font-family: calibri\; mso-bidi-theme-font: minor-latin\; mso-bidi-font-weight: bold">Times: </span><span style="mso-bidi-font-family: calibri\; mso-bidi-theme-font: minor-latin">During Cool Creek Nature Center hours<o:p></o:p></span></font></font></font></p>\n<p class="MsoNoSpacing" style="margin: 0in 0in 0pt">\n	<font size="3"><font color="#000000"><font face="Calibri"><span style="mso-bidi-font-family: calibri\; mso-bidi-theme-font: minor-latin\; mso-bidi-font-weight: bold">Cost: </span><span style="mso-bidi-font-family: calibri\; mso-bidi-theme-font: minor-latin">Free<o:p></o:p></span></font></font></font></p>\n<p class="MsoNoSpacing" style="margin: 0in 0in 0pt">\n	<font size="3"><font color="#000000"><font face="Calibri"><span style="mso-bidi-font-family: calibri\; mso-bidi-theme-font: minor-latin\; mso-bidi-font-weight: bold">Location: </span><span style="mso-bidi-font-family: calibri\; mso-bidi-theme-font: minor-latin">Cool Creek Nature Center<o:p></o:p></span></font></font></font></p>\n
LOCATION:Cool Creek Nature Center
UID:e.1538.400
SEQUENCE:3
DTSTAMP:20260420T085454Z
URL:https://business.noblesvillechamber.com/events/details/nature-s-inspirations-art-exhibit-at-cool-creek-nature-center-400
END:VEVENT

END:VCALENDAR
