BEGIN:VCALENDAR
VERSION:2.0
PRODID:-//ChamberMaster//Event Calendar 2.0//EN
METHOD:PUBLISH
X-PUBLISHED-TTL:P3D
REFRESH-INTERVAL:P3D
CALSCALE:GREGORIAN
BEGIN:VEVENT
DTSTART:20120919T160000Z
DTEND:20120919T170000Z
X-MICROSOFT-CDO-ALLDAYEVENT:FALSE
SUMMARY:New Member Orientation - Sept. 2012
DESCRIPTION:Welcome New Members!\n\n	\n\n	\n\n	If you are a new member or a current member in need of a "refresher course\," please plan to join the Noblesville Chamber staff for an informative hour covering everything you need and want to know about the benefits of your Chamber membership.  \n\n	 \n\n	\n		\n			Get up to speed on upcoming events\n	\n	\n		\n			Learn how the Chamber's website works and what it can do for you \n	\n	\n		\n			Find out how to get more involved with the Chamber and in the community \n	\n	\n		\n			Meet the staff \n	\n	\n		\n			Ask questions about all aspects of your membership\n	\n\n\n	This event is FREE and open to all new (and current) members. \n\n	\n\n	Reservations are required by Monday\, September 17th\n\n	\n\n	A big THANK YOU goes out to Famous Dave's BBQ for providing lunch!
X-ALT-DESC;FMTTYPE=text/html:<h1>\n	Welcome New Members!</h1>\n<p>\n	<br />\n	<br />\n	If you are a new member or&nbsp\;a current member in need of a &quot\;refresher course\,&quot\;&nbsp\;please plan to join the Noblesville Chamber staff for an informative hour covering everything you need and want to know about the benefits of your Chamber membership.&nbsp\;&nbsp\;<br />\n	&nbsp\;</p>\n<ul>\n	<li>\n		<p>\n			Get up to speed on upcoming events</p>\n	</li>\n	<li>\n		<p>\n			Learn how the Chamber&#39\;s website works and what it can do for you&nbsp\;</p>\n	</li>\n	<li>\n		<p>\n			Find out&nbsp\;how to get more involved with the Chamber and in the community&nbsp\;</p>\n	</li>\n	<li>\n		<p>\n			Meet the staff&nbsp\;</p>\n	</li>\n	<li>\n		<p>\n			Ask questions about all aspects of your membership</p>\n	</li>\n</ul>\n<p>\n	This event is<u><span style="color: #ff0000"><strong> FREE</strong> </span></u>and open to all new <em>(and current)</em> members.&nbsp\;<br />\n	<br />\n	<span style="font-size: 11px">Reservations are required&nbsp\;by&nbsp\;<span style="color: #ff0000"><u><strong>Monday\, September 17th</strong></u></span></span><br />\n	<br />\n	<strong><span style="font-size: 14px"><span style="font-family: comic sans ms">A big THANK YOU goes out to Famous Dave&#39\;s BBQ&nbsp\;for&nbsp\;providing lunch!</span></span></strong></p>\n
LOCATION:Noblesville Chamber of Commerce 601 E. Conner Street Noblesville\, IN 46060
UID:e.1538.340
SEQUENCE:3
DTSTAMP:20260420T174011Z
URL:https://business.noblesvillechamber.com/events/details/new-member-orientation-sept-2012-340
END:VEVENT

END:VCALENDAR
