BEGIN:VCALENDAR
VERSION:2.0
PRODID:-//ChamberMaster//Event Calendar 2.0//EN
METHOD:PUBLISH
X-PUBLISHED-TTL:P3D
REFRESH-INTERVAL:P3D
CALSCALE:GREGORIAN
BEGIN:VEVENT
DTSTART:20130207T123000Z
DTEND:20130207T140000Z
X-MICROSOFT-CDO-ALLDAYEVENT:FALSE
SUMMARY:February 2013 Network Breakfast (Noblesville/Carmel/Westfield)
DESCRIPTION:REGISTRATION IS NOW CLOSED!\n\n	\n\n	Network Breakfast\n\n	\n\n	Power network your way to valuable business connections from Noblesville\, Carmel and Westfield. Make contacts\, build your client database and enjoy a delicious breakfast at the same time. Come prepared with a two-minute "elevator speech" about your business and plenty of business cards and brochures to distribute as you rotate from table to table during this fast-paced event.\n \n\n	\n		\n			\n				\n					Date:\n			\n			\n				\n					Thursday\, February 7th\n			\n		\n		\n			\n				\n					\n\n					Time:\n			\n			\n				\n					\n\n					7:30 AM to 9:00 AM  (registration begins at 7:15 AM) \n			\n		\n		\n			\n				\n					Location:  \n			\n			\n				La Hacienda  (formerly Mudsocks Grill)\n\n				14741 Hazel Dell Pkwy.\n\n				Noblesville\, IN\n		\n		\n			\n				\n					\n\n					Cost:  \n			\n			\n				\n					\n\n					$10 Members      $20 Non-Members\n			\n		\n		\n			\n				\n					\n\n					Registration:\n			\n			\n				\n					\n\n					Required\n			\n		\n	\n\n\n	\n\n	Registration deadline is Noon on Monday\, February 4th
X-ALT-DESC;FMTTYPE=text/html:<p>\n	<strong><font size="3"><span style="color:#ff0000\;"><font size="3">REGISTRATION IS NOW CLO<font size="3">SED<font size="3">!</font></font></font></span><br />\n	<br />\n	Network Breakfast</font></strong><br />\n	<br />\n	<span style="font-size: 12px">Power network your way to valuable business connections from Noblesville\, Carmel and Westfield. Make contacts\, build your client database and enjoy a delicious breakfast at the same time. Come prepared with a two-minute &ldquo\;elevator speech&rdquo\; about your business and plenty of business cards and brochures to distribute as you rotate from table to table during this fast-paced event</span>.</p>\n&nbsp\;\n<table border="1" cellpadding="1" cellspacing="1" style="width: 396px\; height: 267px">\n	<tbody>\n		<tr>\n			<td>\n				<p>\n					<span style="font-size: 12px"><strong>Date:</strong></span></p>\n			</td>\n			<td>\n				<p>\n					<span style="font-size: 12px">Thursday\, February 7th</span></p>\n			</td>\n		</tr>\n		<tr>\n			<td>\n				<p>\n					<br />\n					<span style="font-size: 12px"><strong>Time:</strong></span></p>\n			</td>\n			<td>\n				<p>\n					<br />\n					<span style="font-size: 12px">7:30 AM to 9:00 AM&nbsp\; <span style="font-size: 11px"><em>(registration begins at 7:15 AM)</em></span></span><em><span _fck_bookmark="1" style="display: none">&nbsp\;</span></em></p>\n			</td>\n		</tr>\n		<tr>\n			<td>\n				<p>\n					<strong><span style="font-size: 11px"><span style="font-size: 12px">Location:&nbsp\;</span>&nbsp\;</span></strong></p>\n			</td>\n			<td>\n				<span style="font-size: 11px"><span style="font-size: 11px">La Hacienda<em>&nbsp\; (formerly Mudsocks Grill)</em><br />\n				14741 Hazel Dell Pkwy.<br />\n				Noblesville\, IN</span></span></td>\n		</tr>\n		<tr>\n			<td>\n				<p>\n					<br />\n					<span style="font-size: 12px"><strong>Cost:&nbsp\;</strong>&nbsp\;</span></p>\n			</td>\n			<td>\n				<p>\n					<br />\n					<span style="font-size: 12px">$10 Members&nbsp\;&nbsp\;&nbsp\;&nbsp\;&nbsp\; $20 Non-Members</span></p>\n			</td>\n		</tr>\n		<tr>\n			<td>\n				<p>\n					<br />\n					<span style="font-size: 12px"><strong>Registration:</strong></span></p>\n			</td>\n			<td>\n				<p>\n					<br />\n					<span style="font-size: 12px">Required</span></p>\n			</td>\n		</tr>\n	</tbody>\n</table>\n<p>\n	<br />\n	<span style="font-size: 12px"><span style="color: #ff0000"><strong><u><em><font face="Calibri">Registration deadline is Noon on Monday\, February&nbsp\;4th</font></em></u></strong></span></span></p>\n
LOCATION:La Hacienda (formerly Mudsocks Grill) 14741 Hazel Dell Crossing Noblesville\, IN 46062
UID:e.1538.372
SEQUENCE:3
DTSTAMP:20260420T102426Z
URL:https://business.noblesvillechamber.com/events/details/november-2012-network-breakfast-noblesville-carmel-westfield-372
END:VEVENT

END:VCALENDAR
