BEGIN:VCALENDAR
VERSION:2.0
PRODID:-//ChamberMaster//Event Calendar 2.0//EN
METHOD:PUBLISH
X-PUBLISHED-TTL:P3D
REFRESH-INTERVAL:P3D
CALSCALE:GREGORIAN
BEGIN:VEVENT
DTSTART:20101002T203000Z
DTEND:20101002T230000Z
X-MICROSOFT-CDO-ALLDAYEVENT:FALSE
SUMMARY:open House
DESCRIPTION:Meet and greet\, at Halo Hair Studio Noblesville's latest new upscale hair salon.
X-ALT-DESC;FMTTYPE=text/html:Meet and greet\, at Halo Hair Studio Noblesville's latest new upscale hair salon.
LOCATION:215 Sheridan Rd (38)
UID:e.1538.81
SEQUENCE:3
DTSTAMP:20260422T062357Z
URL:https://business.noblesvillechamber.com/events/details/open-house-10-02-2010-81
END:VEVENT

END:VCALENDAR
