BEGIN:VCALENDAR
VERSION:2.0
PRODID:-//ChamberMaster//Event Calendar 2.0//EN
METHOD:PUBLISH
X-PUBLISHED-TTL:P3D
REFRESH-INTERVAL:P3D
CALSCALE:GREGORIAN
BEGIN:VEVENT
DTSTART:20111206T160000Z
DTEND:20111206T233000Z
X-MICROSOFT-CDO-ALLDAYEVENT:FALSE
SUMMARY:OPEN HOUSE
DESCRIPTION:Grant Family Chiropractic is moving offices and we are having an open house to celebrate! Ribbon cutting with Mayor Ditslear\, fun activities all day\, free chair massage\, healthy food\, prize drawings\, giveaways\, and much more!
X-ALT-DESC;FMTTYPE=text/html:Grant Family Chiropractic is moving offices and we are having an open house to celebrate! Ribbon cutting with Mayor Ditslear\, fun activities all day\, free chair massage\, healthy food\, prize drawings\, giveaways\, and much more!
LOCATION:585 Sheridan Rd. Noblesville IN. 46060 Take 38 towards Hague Road if your coming from 32. It is a brown house (horseshoe driveway) on the left before you go down the hill towards Hague Road.
UID:e.1538.211
SEQUENCE:3
DTSTAMP:20260421T080857Z
URL:https://business.noblesvillechamber.com/events/details/open-house-12-06-2011-211
END:VEVENT

END:VCALENDAR
