BEGIN:VCALENDAR
VERSION:2.0
PRODID:-//ChamberMaster//Event Calendar 2.0//EN
METHOD:PUBLISH
X-PUBLISHED-TTL:P3D
REFRESH-INTERVAL:P3D
CALSCALE:GREGORIAN
BEGIN:VEVENT
DTSTART:20131116T150000Z
DTEND:20131116T190000Z
X-MICROSOFT-CDO-ALLDAYEVENT:FALSE
SUMMARY:Open House
DESCRIPTION:Dr. Brad Dahlager and Noblesville Family Chiropractic cordially invites the public to celebrate their grand opening and explore their historic facility during an open house this Saturday\, November 16th\, from 10 am to 2 pm. Enjoy healthy snacks and beverages\, meet the doctor and enter a drawing to win one of several door prizes. Call (317) 214-7218 for more information.
X-ALT-DESC;FMTTYPE=text/html:Dr. Brad Dahlager and Noblesville Family Chiropractic cordially invites the public to celebrate their grand opening and explore their historic facility during an open house this Saturday\, November 16th\, from 10 am to 2 pm. Enjoy healthy snacks and beverages\, meet the doctor and enter a drawing to win one of several door prizes. Call (317) 214-7218 for more information.
LOCATION:Noblesville Family Chiropractic - 953 Maple Avenue
UID:e.1538.548
SEQUENCE:3
DTSTAMP:20260419T200920Z
URL:https://business.noblesvillechamber.com/events/details/open-house-548
END:VEVENT

END:VCALENDAR
