BEGIN:VCALENDAR
VERSION:2.0
PRODID:-//ChamberMaster//Event Calendar 2.0//EN
METHOD:PUBLISH
X-PUBLISHED-TTL:P3D
REFRESH-INTERVAL:P3D
CALSCALE:GREGORIAN
BEGIN:VEVENT
DTSTART:20130430T223000Z
DTEND:20130501T000000Z
X-MICROSOFT-CDO-ALLDAYEVENT:FALSE
SUMMARY:Open House - Christian School Information NIght
DESCRIPTION:Have you ever considered a Christian Education for your children? Join us this evening for more information!
X-ALT-DESC;FMTTYPE=text/html:Have you ever considered a Christian Education for your children? Join us this evening for more information! 
LOCATION:
UID:e.1538.394
SEQUENCE:3
DTSTAMP:20260420T070757Z
URL:https://business.noblesvillechamber.com/events/details/open-house-christian-school-information-night-394
END:VEVENT

END:VCALENDAR
