BEGIN:VCALENDAR
VERSION:2.0
PRODID:-//ChamberMaster//Event Calendar 2.0//EN
METHOD:PUBLISH
X-PUBLISHED-TTL:P3D
REFRESH-INTERVAL:P3D
CALSCALE:GREGORIAN
BEGIN:VEVENT
DTSTART:20120331T140000Z
DTEND:20120401T210000Z
X-MICROSOFT-CDO-ALLDAYEVENT:FALSE
SUMMARY:Opening Weekend
DESCRIPTION:Shake off the winter blues and head out to Conner Prairie Interactive History Park to find out what's new this year. Scour the grounds and maybe even win a prize by playing our opening weekend Amazing Race Through Time\, a competition that includes physical and mental challenges across all five themed outdoor areas. Help Conner Prairie welcome the new baby animals at Animal Encounters\, where you can hold\, pet and help take care of goats\, ducks\, sheep and more. Don't forget to say hello to the beloved residents of 1836 Prairietown. While visiting\, you can snag a preview of the brand new Barker Brother's Pottery Shop\, only one of many exciting changes in store for the grand re-opening of 1836 Prairietown in June. Explore all our outdoor historic areas to see what other adventures await you and your family this season. Opening weekend is Saturday\, March 31\, 10 a.m.-5 p.m. and Sunday\, April 1\, 10 a.m.-5 p.m. Admission is $14/adults\, $13/seniors 65+\, $9/youth (ages 2-12)\, free for members and youth under 2. Some activities may include an additional fee. For more information\, call (317) 776-6006 or (800) 966-1836 or visit www.connerprairie.org.
X-ALT-DESC;FMTTYPE=text/html:Shake off the winter blues and head out to Conner Prairie Interactive History Park to find out what's new this year. Scour the grounds and maybe even win a prize by playing our opening weekend Amazing Race Through Time\, a competition that includes physical and mental challenges across all five themed outdoor areas. Help Conner Prairie welcome the new baby animals at Animal Encounters\, where you can hold\, pet and help take care of goats\, ducks\, sheep and more. Don't forget to say hello to the beloved residents of 1836 Prairietown. While visiting\, you can snag a preview of the brand new Barker Brother's Pottery Shop\, only one of many exciting changes in store for the grand re-opening of 1836 Prairietown in June. Explore all our outdoor historic areas to see what other adventures await you and your family this season. Opening weekend is Saturday\, March 31\, 10 a.m.-5 p.m. and Sunday\, April 1\, 10 a.m.-5 p.m. Admission is $14/adults\, $13/seniors 65+\, $9/youth (ages 2-12)\, free for members and youth under 2. Some activities may include an additional fee. For more information\, call (317) 776-6006 or (800) 966-1836 or visit www.connerprairie.org. 
LOCATION:Conner Prairie
UID:e.1538.244
SEQUENCE:3
DTSTAMP:20260421T012024Z
URL:https://business.noblesvillechamber.com/events/details/opening-weekend-03-31-2012-244
END:VEVENT

END:VCALENDAR
