BEGIN:VCALENDAR
VERSION:2.0
PRODID:-//ChamberMaster//Event Calendar 2.0//EN
METHOD:PUBLISH
X-PUBLISHED-TTL:P3D
REFRESH-INTERVAL:P3D
CALSCALE:GREGORIAN
BEGIN:VEVENT
DTSTART:20130309T000000Z
DTEND:20130608T000000Z
X-MICROSOFT-CDO-ALLDAYEVENT:FALSE
SUMMARY:Pajama-Rama
DESCRIPTION:Put on your cutest pair of pajamas\, grab your favorite teddy bear\, pack up an old blanket\, and join us for Pajama-Rama! Families looking for a fun program to enjoy with their toddlers and preschoolers will love the Music Educator from Moriah Music who will lead us in songs and stories about some of our favorite animals.\n\n	 \n\n	Dates: March 8\; April 5\; May 3\; June 7\n\n	Time: 7:00-8:00 pm\n\n	Ages: Best for families with children ages 1-7\n\n	Pre-registration: Yes\, call 317-774-2500 or email at\n\n	cool.naturecenter@hamiltoncounty.in.gov\n\n	Location: Cool Creek Nature Center
X-ALT-DESC;FMTTYPE=text/html:<p class="MsoNoSpacing" style="margin: 0in 0in 0pt">\n	<span style="mso-bidi-font-family: calibri\; mso-bidi-theme-font: minor-latin\; mso-bidi-font-weight: bold"><font size="3"><font color="#000000"><font face="Calibri">Put on your cutest pair of pajamas\, grab your favorite teddy bear\, pack up an old blanket\, and join us for Pajama-Rama! Families looking for a fun program to enjoy with their toddlers and preschoolers will love the Music Educator from Moriah Music who will lead us in songs and stories about some of our favorite animals.<o:p></o:p></font></font></font></span></p>\n<p class="MsoNoSpacing" style="margin: 0in 0in 0pt">\n	<span style="mso-bidi-font-family: calibri\; mso-bidi-theme-font: minor-latin\; mso-bidi-font-weight: bold"><o:p><font color="#000000" face="Calibri" size="3">&nbsp\;</font></o:p></span></p>\n<p class="MsoNoSpacing" style="margin: 0in 0in 0pt">\n	<span style="mso-bidi-font-family: calibri\; mso-bidi-theme-font: minor-latin\; mso-bidi-font-weight: bold"><font size="3"><font color="#000000"><font face="Calibri">Dates: March 8\; April 5\; May 3\; June 7<o:p></o:p></font></font></font></span></p>\n<p class="MsoNoSpacing" style="margin: 0in 0in 0pt">\n	<span style="mso-bidi-font-family: calibri\; mso-bidi-theme-font: minor-latin\; mso-bidi-font-weight: bold"><font size="3"><font color="#000000"><font face="Calibri">Time: 7:00-8:00 pm<o:p></o:p></font></font></font></span></p>\n<p class="MsoNoSpacing" style="margin: 0in 0in 0pt">\n	<span style="mso-bidi-font-family: calibri\; mso-bidi-theme-font: minor-latin\; mso-bidi-font-weight: bold"><font size="3"><font color="#000000"><font face="Calibri">Ages: Best for families with children ages 1-7<o:p></o:p></font></font></font></span></p>\n<p class="MsoNoSpacing" style="margin: 0in 0in 0pt">\n	<span style="mso-bidi-font-family: calibri\; mso-bidi-theme-font: minor-latin\; mso-bidi-font-weight: bold"><font size="3"><font color="#000000"><font face="Calibri">Pre-registration: Yes\, call 317-774-2500 or email at<o:p></o:p></font></font></font></span></p>\n<p class="MsoNoSpacing" style="margin: 0in 0in 0pt">\n	<i><span style="mso-bidi-font-family: calibri\; mso-bidi-theme-font: minor-latin\; mso-bidi-font-weight: bold"><font size="3"><font color="#000000"><font face="Calibri">cool.naturecenter@hamiltoncounty.in.gov<o:p></o:p></font></font></font></span></i></p>\n<p class="MsoNoSpacing" style="margin: 0in 0in 0pt">\n	<font size="3"><font color="#000000"><font face="Calibri"><span style="mso-bidi-font-family: calibri\; mso-bidi-theme-font: minor-latin\; mso-bidi-font-weight: bold">Location: </span><span style="mso-bidi-font-family: calibri\; mso-bidi-theme-font: minor-latin">Cool Creek Nature Center<o:p></o:p></span></font></font></font></p>\n
LOCATION:Cool Creek Nature Center
UID:e.1538.402
SEQUENCE:3
DTSTAMP:20260420T033905Z
URL:https://business.noblesvillechamber.com/events/details/pajama-rama-402
END:VEVENT

END:VCALENDAR
