BEGIN:VCALENDAR
VERSION:2.0
PRODID:-//ChamberMaster//Event Calendar 2.0//EN
METHOD:PUBLISH
X-PUBLISHED-TTL:P3D
REFRESH-INTERVAL:P3D
CALSCALE:GREGORIAN
BEGIN:VEVENT
DTSTART:20130710T150000Z
DTEND:20130710T170000Z
X-MICROSOFT-CDO-ALLDAYEVENT:FALSE
SUMMARY:Parker Mortgage Grand Re-Opening/Ribbon Cutting
DESCRIPTION:Parker Mortgage Group\n\nGrand Re-Opening and\n\nRibbon Cutting\n \n\n\n	\n		\n			\n			They've got a new lender\, new team and a new brand!\n			\n		\n	\n\n\n\nJoin Parker Mortgage Group and\n\nthe Noblesville Chamber for a\n\nGrand Re-Opening\n \n\n\n	\n		\n			Parker Mortgage Group\n\n			a Branch of Gateway Funding\n		\n		\n			 \n		\n	\n\n\n\nRibbon Cutting Ceremony\n\nfeaturing\n\nMayor John Ditslear\n\n11:00 a.m.\n\nEnjoy delicious food from La Cascada and fellowship between 11:00am and 1:00pm. \n\nYou are invited to "take a look inside their beloved mortgage bunker!\n\n \n\nRSVP for a chance to win great gifts such as free lunch at La Cascada\,\n\nJohn Mayer concert tickets and more!\n\n\n\nCall 399-9199 to RSVP or e-mail:  hiegg@gatewayfunding.com
X-ALT-DESC;FMTTYPE=text/html:<h4 style="text-align: center\;"><span style="font-size:18px\;">Parker Mortgage Group<br />\nGrand Re-Opening and<br />\nRibbon Cutting</span></h4>\n&nbsp\;\n\n<table align="center" border="0" cellpadding="1" cellspacing="1" height="23" width="358">\n	<tbody>\n		<tr>\n			<td style="text-align: center\;">\n			<p><span style="font-size:12px\;"><strong>They&#39\;ve got a new lender\, new team and a new brand!</strong></span></p>\n			</td>\n		</tr>\n	</tbody>\n</table>\n\n<div style="text-align: center\;">\n<p>Join Parker Mortgage Group and<br />\nthe Noblesville Chamber for a<br />\nGrand Re-Opening</p>\n&nbsp\;\n\n<table align="center" border="0" cellpadding="1" cellspacing="1" height="38" width="292">\n	<tbody>\n		<tr>\n			<td><span style="font-size:18px\;">Parker Mortgage Group</span><br />\n			<em>a Branch of Gateway Funding</em></td>\n		</tr>\n		<tr>\n			<td>&nbsp\;</td>\n		</tr>\n	</tbody>\n</table>\n</div>\n\n<p style="text-align: center\;"><em><span style="color:#800000\;"><span style="font-size: 14px\;">Ribbon Cutting Ceremony<br />\nfeaturing<br />\nMayor John Ditslear<br />\n11:00 a.m.</span></span></em></p>\n\n<p style="text-align: center\;">Enjoy delicious food from <em><strong>La Cascada</strong></em> and fellowship between 11:00am and 1:00pm.&nbsp\;<br />\nYou are invited to &quot\;take a look inside their beloved mortgage bunker!<br />\n&nbsp\;</p>\n\n<p style="text-align: center\;"><strong>RSVP for a chance to win great gifts such as free lunch at La Cascada\,<br />\nJohn Mayer concert tickets and more!</strong></p>\n\n<p><br />\n<span style="font-size:11px\;"><em>Call 399-9199 to RSVP or e-mail:&nbsp\; <a href="mailto:hiegg@gatewayfunding.com">hiegg@gatewayfunding.com</a></em></span></p>\n
LOCATION:Model Mill Building 802 Mulberry St.\, Ste. AB Noblesville\, IN 46060
UID:e.1538.488
SEQUENCE:3
DTSTAMP:20260420T022110Z
URL:https://business.noblesvillechamber.com/events/details/parker-mortgage-grand-re-opening-ribbon-cutting-488
END:VEVENT

END:VCALENDAR
