BEGIN:VCALENDAR
VERSION:2.0
PRODID:-//ChamberMaster//Event Calendar 2.0//EN
METHOD:PUBLISH
X-PUBLISHED-TTL:P3D
REFRESH-INTERVAL:P3D
CALSCALE:GREGORIAN
BEGIN:VEVENT
DTSTART:20130710T150000Z
DTEND:20130710T170000Z
X-MICROSOFT-CDO-ALLDAYEVENT:FALSE
SUMMARY:Parker Mortgage Group Grand Re-Opening/Ribbon Cutting
DESCRIPTION:We've got a new lender\, new team\, and a new brand! Come join us for our Grand Re-Opening as Parker Mortgage Group a Branch of Gateway Funding on Wednesday July 10th with special guest Mayor Ditslear of Noblesville. Enjoy delicious food from La Cascada\, fellowship\, and take a look inside our beloved mortgage bunker! RSVP for your chance to win great gifts such as free lunch at La Cascada\, John Mayer concert tickets and more!
X-ALT-DESC;FMTTYPE=text/html:<span style="color: rgb(51\, 51\, 51)\; font-family: 'lucida grande'\, tahoma\, verdana\, arial\, sans-serif\; font-size: 13px\; line-height: 16px\; text-align: left\; ">We&#39\;ve got a new lender\, new team\, and a new brand! Come join us for our Grand Re-Opening as Parker Mortgage Group a Branch of Gateway Funding on Wednesday July 10th with special guest Mayor Ditslear of Noblesville. Enjoy delicious food from La Cascada\, fellowship\, and take a look inside our beloved mortgage bunker! RSVP for your chance to win great gifts such as free lunch at La Cascada\, John Mayer concert tickets and more!</span>
LOCATION:Model Mill Building: 802 Mulberry St STE AB
UID:e.1538.487
SEQUENCE:3
DTSTAMP:20260420T021919Z
URL:https://business.noblesvillechamber.com/events/details/parker-mortgage-group-grand-re-opening-ribbon-cutting-487
END:VEVENT

END:VCALENDAR
