BEGIN:VCALENDAR
VERSION:2.0
PRODID:-//ChamberMaster//Event Calendar 2.0//EN
METHOD:PUBLISH
X-PUBLISHED-TTL:P3D
REFRESH-INTERVAL:P3D
CALSCALE:GREGORIAN
BEGIN:VEVENT
DTSTART:20120220T150000Z
DTEND:20120220T220000Z
X-MICROSOFT-CDO-ALLDAYEVENT:FALSE
SUMMARY:President's Day
DESCRIPTION:Free/Community Day \nIn celebration of President's Day\, Conner Prairie Interactive History Park will be open to the public free of charge. Come for a day full of excitement and fun as we celebrate our founding fathers. Enjoy historic toys and games\, crafts and food. Join Dr. Campbell's party at the Featherston Barn in honor of George Washington's birthday\, practice building a timber frame house\, or celebrate with a bang by firing a blank round from a Civil War-era rifle (extra fee applies). For more information\, call (317) 776-6006 or visit www.connerprairie.org.
X-ALT-DESC;FMTTYPE=text/html:Free/Community Day \nIn celebration of President's Day\, Conner Prairie Interactive History Park will be open to the public free of charge. Come for a day full of excitement and fun as we celebrate our founding fathers. Enjoy historic toys and games\, crafts and food. Join Dr. Campbell's party at the Featherston Barn in honor of George Washington's birthday\, practice building a timber frame house\, or celebrate with a bang by firing a blank round from a Civil War-era rifle (extra fee applies). For more information\, call (317) 776-6006 or visit www.connerprairie.org.\n
LOCATION:Conner Prairie
UID:e.1538.238
SEQUENCE:3
DTSTAMP:20260421T043536Z
URL:https://business.noblesvillechamber.com/events/details/president-s-day-02-20-2012-238
END:VEVENT

END:VCALENDAR
