BEGIN:VCALENDAR
VERSION:2.0
PRODID:-//ChamberMaster//Event Calendar 2.0//EN
METHOD:PUBLISH
X-PUBLISHED-TTL:P3D
REFRESH-INTERVAL:P3D
CALSCALE:GREGORIAN
BEGIN:VEVENT
DTSTART:20120313T230000Z
DTEND:20120314T010000Z
X-MICROSOFT-CDO-ALLDAYEVENT:FALSE
SUMMARY:Prevail\, Inc. to benefit from annual Tri Kappa Epsilon Silent Purse Auction
DESCRIPTION:Prevail\, Inc.\, a victim awareness and support program serving Hamilton County\, will benefit from the 7th annual Carmel Tri Kappa Epsilon Silent Purse Auction – Cruisin' for a Cause - on Tuesday\, March 13 from 7– 9 p.m. at the Bridgewater Clubhouse\, 3535 East 161st Street\, Carmel\, Indiana. \n\n''Many stunning purses filled with goodies will be up for auction\,'' said Loretta Moore\, executive director of Prevail\, Inc. ''Bidding gets quite competitive and all the profits benefit Prevail's programs and services for victims of crime and abuse. Past purses have included theater tickets\, restaurant gift certificates\, beauty items and sports memorabilia.'' \n\nTri Kappa is a philanthropic\, not-for-profit organization founded in 1901. The group has nearly 10\,000 members in its more than 250 chapters statewide. Each Tri Kappa chapter hosts special projects in its community for charity\, culture and education.  The Carmel Active and Associate Chapters will sponsor Prevail\, Inc. through this popular silent auction event.  \n\nTickets are $15 and are available at the Prevail office located at 1100 S. 9th Street\, Suite 100 in Noblesville or from members of the Carmel Tri-Kappa organization. Hors d'oeuvres and a complimentary Kappa-tini are included. Payment with cash or check will be accepted for purse purchases. For more information\, please contact 317-773-6942.
X-ALT-DESC;FMTTYPE=text/html:Prevail\, Inc.\, a victim awareness and support program serving Hamilton County\, will benefit from the 7th annual Carmel Tri Kappa Epsilon Silent Purse Auction – Cruisin' for a Cause - on Tuesday\, March 13 from 7– 9 p.m. at the Bridgewater Clubhouse\, 3535 East 161st Street\, Carmel\, Indiana. \n\n''Many stunning purses filled with goodies will be up for auction\,'' said Loretta Moore\, executive director of Prevail\, Inc. ''Bidding gets quite competitive and all the profits benefit Prevail's programs and services for victims of crime and abuse. Past purses have included theater tickets\, restaurant gift certificates\, beauty items and sports memorabilia.'' \n\nTri Kappa is a philanthropic\, not-for-profit organization founded in 1901. The group has nearly 10\,000 members in its more than 250 chapters statewide. Each Tri Kappa chapter hosts special projects in its community for charity\, culture and education.  The Carmel Active and Associate Chapters will sponsor Prevail\, Inc. through this popular silent auction event.  \n\nTickets are $15 and are available at the Prevail office located at 1100 S. 9th Street\, Suite 100 in Noblesville or from members of the Carmel Tri-Kappa organization. Hors d'oeuvres and a complimentary Kappa-tini are included. Payment with cash or check will be accepted for purse purchases. For more information\, please contact 317-773-6942.  \n
LOCATION:Bridgewater Clubhouse
UID:e.1538.243
SEQUENCE:3
DTSTAMP:20260421T025920Z
URL:https://business.noblesvillechamber.com/events/details/prevail-inc-to-benefit-from-annual-tri-kappa-epsilon-silent-purse-auction-03-13-2012-243
END:VEVENT

END:VCALENDAR
