BEGIN:VCALENDAR
VERSION:2.0
PRODID:-//ChamberMaster//Event Calendar 2.0//EN
METHOD:PUBLISH
X-PUBLISHED-TTL:P3D
REFRESH-INTERVAL:P3D
CALSCALE:GREGORIAN
BEGIN:VEVENT
DTSTART:20110217T233000Z
DTEND:20110218T023000Z
X-MICROSOFT-CDO-ALLDAYEVENT:FALSE
SUMMARY:Promising Futures' 2nd Annual Trivia Night
DESCRIPTION:Are you ready for some trivia?? Be at the Noblesville Moose Lodge on February 17th 2011 for the challenge.  Snow date February 24th! This fundraiser will benefit Promising Futures of Central Indiana!\nTeams of four compete for prizes and bragging rights!\nEnter individually\, as a team or anything in between!\nEntry fee: $25/person!\nFood and Drink Available!\nRSVP to Michele at mwhelchel@promisingfutures.org or 773-6342 or visit www.promisingfutures.org to register!
X-ALT-DESC;FMTTYPE=text/html:Are you ready for some trivia?? Be at the Noblesville Moose Lodge on February 17th 2011 for the challenge.  Snow date February 24th! This fundraiser will benefit Promising Futures of Central Indiana!\nTeams of four compete for prizes and bragging rights!\nEnter individually\, as a team or anything in between!\nEntry fee: $25/person!\nFood and Drink Available!\nRSVP to Michele at mwhelchel@promisingfutures.org or 773-6342 or visit www.promisingfutures.org to register!\n
LOCATION:Noblesville Moose Lodge
UID:e.1538.108
SEQUENCE:3
DTSTAMP:20260422T004537Z
URL:https://business.noblesvillechamber.com/events/details/promising-futures-2nd-annual-trivia-night-02-17-2011-108
END:VEVENT

END:VCALENDAR
