BEGIN:VCALENDAR
VERSION:2.0
PRODID:-//ChamberMaster//Event Calendar 2.0//EN
METHOD:PUBLISH
X-PUBLISHED-TTL:P3D
REFRESH-INTERVAL:P3D
CALSCALE:GREGORIAN
BEGIN:VEVENT
DTSTART:20130824T110000Z
DTEND:20130824T230000Z
X-MICROSOFT-CDO-ALLDAYEVENT:FALSE
SUMMARY:Race Across Hamilton County
DESCRIPTION:Join us for the 2013 Race Across Hamilton County Team Activities Challenge! Teams will compete in mental\, physical\, passive\, and other challenges at 5 different parks around the county. No time is recorded for travel.  Race Day meals are provided and an awards ceremony will be provided to all registered participants. Monetary prizes are awarded to the top three teams. For ages 14 & up\; each team must have at least one member 18 years or older. Check-in will be from 7:00 a.m.   7:30 a.m. $50 for team of two. Registration begins 4/1.  \n\n	 \n\n	Please register through Fishers Parks and Recreation.\n\n	(317)595-3150 or http://www.fishers.in.us/department/division.php?fDD=9-263\n\n	Min. 40/Max. 50 team\n\n	 \n\n	Date: Saturday\, August 24th\n\n	Race will conclude at Central Park\,\n\n	1235 Central Park Drive East\, Carmel \, IN 46032\n\n	Time: 7am   7pm\n\n	Registration: by August 7 or when full\n\n	Location: Check in at Fishers Heritage Park\,\n\n	10595 Eller Road\, Fishers\, IN 46038
X-ALT-DESC;FMTTYPE=text/html:<p class="MsoNoSpacing" style="margin: 0in 0in 0pt">\n	<span style="mso-bidi-font-family: calibri\; mso-bidi-theme-font: minor-latin"><font size="3"><font color="#000000"><font face="Calibri">Join us for the 2013 Race Across Hamilton County Team Activities Challenge! Teams will compete in mental\, physical\, passive\, and other challenges at 5 different parks around the county. No time is recorded for travel.<span style="mso-spacerun: yes">&nbsp\; </span>Race Day meals are provided and an awards ceremony will be provided to all registered participants. Monetary prizes are awarded to the top three teams. For ages 14 &amp\; up\; each team must have at least one member 18 years or older. Check-in will be from 7:00 a.m. &ndash\; 7:30 a.m. $50 for team of two. Registration begins 4/1.<span style="mso-spacerun: yes">&nbsp\; </span><o:p></o:p></font></font></font></span></p>\n<p class="MsoNoSpacing" style="margin: 0in 0in 0pt">\n	<span style="mso-bidi-font-family: calibri\; mso-bidi-theme-font: minor-latin"><o:p><font color="#000000" face="Calibri" size="3">&nbsp\;</font></o:p></span></p>\n<p class="MsoNoSpacing" style="margin: 0in 0in 0pt">\n	<span style="mso-bidi-font-family: calibri\; mso-bidi-theme-font: minor-latin"><font size="3"><font color="#000000"><font face="Calibri">Please register through Fishers Parks and Recreation.<o:p></o:p></font></font></font></span></p>\n<p class="MsoNoSpacing" style="margin: 0in 0in 0pt">\n	<span style="mso-bidi-font-family: calibri\; mso-bidi-theme-font: minor-latin"><font size="3"><font color="#000000"><font face="Calibri">(317)595-3150 or <i>http://www.fishers.in.us/department/division.php?fDD=9-263<o:p></o:p></i></font></font></font></span></p>\n<p class="MsoNoSpacing" style="margin: 0in 0in 0pt">\n	<span style="mso-bidi-font-family: calibri\; mso-bidi-theme-font: minor-latin\; mso-bidi-font-weight: bold"><font size="3"><font color="#000000"><font face="Calibri">Min. 40/Max. 50 team<o:p></o:p></font></font></font></span></p>\n<p class="MsoNoSpacing" style="margin: 0in 0in 0pt">\n	<span style="mso-bidi-font-family: calibri\; mso-bidi-theme-font: minor-latin\; mso-bidi-font-weight: bold"><o:p><font color="#000000" face="Calibri" size="3">&nbsp\;</font></o:p></span></p>\n<p class="MsoNoSpacing" style="margin: 0in 0in 0pt">\n	<font size="3"><font color="#000000"><font face="Calibri"><span style="mso-bidi-font-family: calibri\; mso-bidi-theme-font: minor-latin\; mso-bidi-font-weight: bold">Date: </span><span style="mso-bidi-font-family: calibri\; mso-bidi-theme-font: minor-latin">Saturday\, August 24th<o:p></o:p></span></font></font></font></p>\n<p class="MsoNoSpacing" style="margin: 0in 0in 0pt">\n	<span style="mso-bidi-font-family: calibri\; mso-bidi-theme-font: minor-latin\; mso-bidi-font-weight: bold"><font size="3"><font color="#000000"><font face="Calibri">Race will conclude at Central Park\,<o:p></o:p></font></font></font></span></p>\n<p class="MsoNoSpacing" style="margin: 0in 0in 0pt">\n	<span style="mso-bidi-font-family: calibri\; mso-bidi-theme-font: minor-latin\; mso-bidi-font-weight: bold"><font size="3"><font color="#000000"><font face="Calibri">1235 Central Park Drive East\, Carmel \, IN 46032<o:p></o:p></font></font></font></span></p>\n<p class="MsoNoSpacing" style="margin: 0in 0in 0pt">\n	<font size="3"><font color="#000000"><font face="Calibri"><span style="mso-bidi-font-family: calibri\; mso-bidi-theme-font: minor-latin\; mso-bidi-font-weight: bold">Time: </span><span style="mso-bidi-font-family: calibri\; mso-bidi-theme-font: minor-latin">7am &ndash\; 7pm<o:p></o:p></span></font></font></font></p>\n<p class="MsoNoSpacing" style="margin: 0in 0in 0pt">\n	<font size="3"><font color="#000000"><font face="Calibri"><span style="mso-bidi-font-family: calibri\; mso-bidi-theme-font: minor-latin\; mso-bidi-font-weight: bold">Registration: </span><span style="mso-bidi-font-family: calibri\; mso-bidi-theme-font: minor-latin">by August 7 or when full<o:p></o:p></span></font></font></font></p>\n<p class="MsoNoSpacing" style="margin: 0in 0in 0pt">\n	<font size="3"><font color="#000000"><font face="Calibri"><span style="mso-bidi-font-family: calibri\; mso-bidi-theme-font: minor-latin\; mso-bidi-font-weight: bold">Location: </span><span style="mso-bidi-font-family: calibri\; mso-bidi-theme-font: minor-latin">Check in at Fishers Heritage Park\,<o:p></o:p></span></font></font></font></p>\n<p class="MsoNoSpacing" style="margin: 0in 0in 0pt">\n	<span style="mso-bidi-font-family: calibri\; mso-bidi-theme-font: minor-latin"><font size="3"><font color="#000000"><font face="Calibri">10595 Eller Road\, Fishers\, IN 46038<o:p></o:p></font></font></font></span></p>\n
LOCATION:Check in at Fishers Heritage Park\, 10595 Eller Road\, Fishers\, IN 46038
UID:e.1538.406
SEQUENCE:3
DTSTAMP:20260420T004142Z
URL:https://business.noblesvillechamber.com/events/details/race-across-hamilton-county-406
END:VEVENT

END:VCALENDAR
