BEGIN:VCALENDAR
VERSION:2.0
PRODID:-//ChamberMaster//Event Calendar 2.0//EN
METHOD:PUBLISH
X-PUBLISHED-TTL:P3D
REFRESH-INTERVAL:P3D
CALSCALE:GREGORIAN
BEGIN:VEVENT
DTSTART:20121013T170000Z
DTEND:20121013T190000Z
X-MICROSOFT-CDO-ALLDAYEVENT:FALSE
SUMMARY:Re-boo! Re-wear! Re-Scare! A Costume Swap
DESCRIPTION:Join us for our Halloween costume swap. Bring an unwanted costume or costume accessory and SWAP it for another one. This is a great way to reuse costumes that no longer fit and save money at the same time!\n\n\n\nPlease note the following:\n\nPlease only bring costumes that are clean and in good condition.\n\nAny make-up/face paint donated must be sealed or unused.\n\nIf you are unable to find a used costume you would like to swap for\, you may donate your costume or reclaim your original costume - if it has not already been claimed by someone else\n\nFeel free to donate costumes without swapping!\n\nFor more information\, please contact us at 317-774-2500
X-ALT-DESC;FMTTYPE=text/html:Join us for our Halloween costume swap. Bring an unwanted costume or costume accessory and SWAP it for another one. This is a great way to reuse costumes that no longer fit and save money at the same time!<br />\n<br />\nPlease note the following:<br />\nPlease only bring costumes that are clean and in good condition.<br />\nAny make-up/face paint donated must be sealed or unused.<br />\nIf you are unable to find a used costume you would like to swap for\, you may donate your costume or reclaim your original costume - if it has not already been claimed by someone else<br />\nFeel free to donate costumes without swapping!<br />\nFor more information\, please contact us at 317-774-2500<br />\n
LOCATION:Cool Creek Park
UID:e.1538.354
SEQUENCE:3
DTSTAMP:20260420T174248Z
URL:https://business.noblesvillechamber.com/events/details/re-boo-re-wear-re-scare-a-costume-swap-354
END:VEVENT

END:VCALENDAR
