BEGIN:VCALENDAR
VERSION:2.0
PRODID:-//ChamberMaster//Event Calendar 2.0//EN
METHOD:PUBLISH
X-PUBLISHED-TTL:P3D
REFRESH-INTERVAL:P3D
CALSCALE:GREGORIAN
BEGIN:VEVENT
DTSTART:20120609T140000Z
DTEND:20120610T210000Z
X-MICROSOFT-CDO-ALLDAYEVENT:FALSE
SUMMARY:Rediscover 1836 Prairietown - Grand Re-Opening
DESCRIPTION:Starting June 9\, there will be a whole new set of adventures for you to uncover in 1836 Prairietown at Conner Prairie Interactive History Park. We've kept what you've always loved about Prairietown and added new adventures\, new excitement and even more fun. Every step into the newly revitalized pioneer town reveals new opportunities for you to be a part of Indiana's past. Earn some wages by taking on one of the many odd jobs posted around town then spend it at the Whitaker Store. It's an amazing experience your whole family is sure to enjoy\, so leave behind the microwaves\, automobiles and computers and spend the day as a Prairietown citizen.
X-ALT-DESC;FMTTYPE=text/html:Starting June 9\, there will be a whole new set of adventures for you to uncover in 1836 Prairietown at Conner Prairie Interactive History Park. We've kept what you've always loved about Prairietown and added new adventures\, new excitement and even more fun. Every step into the newly revitalized pioneer town reveals new opportunities for you to be a part of Indiana's past. Earn some wages by taking on one of the many odd jobs posted around town then spend it at the Whitaker Store. It's an amazing experience your whole family is sure to enjoy\, so leave behind the microwaves\, automobiles and computers and spend the day as a Prairietown citizen. 
LOCATION:Conner Prairie Interactive History Park
UID:e.1538.258
SEQUENCE:3
DTSTAMP:20260420T221708Z
URL:https://business.noblesvillechamber.com/events/details/rediscover-1836-prairietown-grand-re-opening-06-09-2012-258
END:VEVENT

END:VCALENDAR
